BEGIN:VCALENDAR
VERSION:2.0
PRODID:-//Go Club di Roma &quot;Fujisawa Shuko&quot; - ECPv6.15.20//NONSGML v1.0//EN
CALSCALE:GREGORIAN
METHOD:PUBLISH
X-WR-CALNAME:Go Club di Roma &quot;Fujisawa Shuko&quot;
X-ORIGINAL-URL:https://www.goclubdiroma.it
X-WR-CALDESC:Eventi per Go Club di Roma &quot;Fujisawa Shuko&quot;
REFRESH-INTERVAL;VALUE=DURATION:PT1H
X-Robots-Tag:noindex
X-PUBLISHED-TTL:PT1H
BEGIN:VTIMEZONE
TZID:Europe/Rome
BEGIN:DAYLIGHT
TZOFFSETFROM:+0100
TZOFFSETTO:+0200
TZNAME:CEST
DTSTART:20230326T010000
END:DAYLIGHT
BEGIN:STANDARD
TZOFFSETFROM:+0200
TZOFFSETTO:+0100
TZNAME:CET
DTSTART:20231029T010000
END:STANDARD
BEGIN:DAYLIGHT
TZOFFSETFROM:+0100
TZOFFSETTO:+0200
TZNAME:CEST
DTSTART:20240331T010000
END:DAYLIGHT
BEGIN:STANDARD
TZOFFSETFROM:+0200
TZOFFSETTO:+0100
TZNAME:CET
DTSTART:20241027T010000
END:STANDARD
BEGIN:DAYLIGHT
TZOFFSETFROM:+0100
TZOFFSETTO:+0200
TZNAME:CEST
DTSTART:20250330T010000
END:DAYLIGHT
BEGIN:STANDARD
TZOFFSETFROM:+0200
TZOFFSETTO:+0100
TZNAME:CET
DTSTART:20251026T010000
END:STANDARD
END:VTIMEZONE
BEGIN:VEVENT
DTSTART;TZID=Europe/Rome:20241026T160000
DTEND;TZID=Europe/Rome:20241026T233000
DTSTAMP:20260421T140709
CREATED:20241002T074222Z
LAST-MODIFIED:20241002T074402Z
UID:6244-1729958400-1729985400@www.goclubdiroma.it
SUMMARY:L'antico gioco del Go
DESCRIPTION:Per maggiori informazioni vai sull’evento pubblicato su facebook.
URL:https://www.goclubdiroma.it/event/lantico-gioco-del-go-2/
LOCATION:Hotel Nuovo Albergo Operai (NAO) Monfalcone\, via del Mercato 5\, Monfalcone\, Gorizia\, Italia
CATEGORIES:Manifestazioni
ATTACH;FMTTYPE=image/jpeg:https://www.goclubdiroma.it/wp-content/uploads/2023/11/logoHiga-1-e1702592574765.jpg
ORGANIZER;CN="Higashikita":MAILTO:info@higashikita.go.it
END:VEVENT
BEGIN:VEVENT
DTSTART;TZID=Europe/Rome:20241019T000000
DTEND;TZID=Europe/Rome:20241020T235959
DTSTAMP:20260421T140709
CREATED:20241017T072732Z
LAST-MODIFIED:20241017T072732Z
UID:6340-1729296000-1729468799@www.goclubdiroma.it
SUMMARY:Macerata No Go al Game Labs Festival VI Edizione
DESCRIPTION:Sesta edizione del GameLabs – Festival del gioco e sul gioco! Una settimana all’insegna del gioco in ogni sua forma! \nSabato 19 e domenica 20 ottobre alla Galleria Antichi Forni ci saremo anche il Macerata No Go!— presso Galleria Antichi Forni. \n 
URL:https://www.goclubdiroma.it/event/macerata-no-go-al-game-labs-festival-vi-edizione/
LOCATION:Galleria degli Antichi Forni\, Piaggia della Torre\, Macerata\, MC\, 62100\, Italia
CATEGORIES:Manifestazioni
ATTACH;FMTTYPE=image/webp:https://www.goclubdiroma.it/wp-content/uploads/2023/05/mcnogo4-g_480x480.webp
ORGANIZER;CN="Macerata No Go":MAILTO:maceratanogo@gmx.com
END:VEVENT
BEGIN:VEVENT
DTSTART;TZID=Europe/Rome:20241005T090000
DTEND;TZID=Europe/Rome:20241005T190000
DTSTAMP:20260421T140709
CREATED:20240820T200335Z
LAST-MODIFIED:20240820T200731Z
UID:6151-1728118800-1728154800@www.goclubdiroma.it
SUMMARY:Primo torneo LombardiaGo
DESCRIPTION:Sabato 5 ottobre si terra’ a Milano presso la biblioteca di Affori un torneo di classe B che servira’ da occasione di incontro per la fondazione dell’associazione regionale LombardiaGo.\nParallelamente all’evento ci sara’ un torneo 13×13 dedicato ai giocatori in erba. \nClicca qui per iscriverti\, \nElenco Partecipanti \nPer maggiori informazioni clicca qui. \nImportante: il pagamento elettronico puo essere fatto solamente online con Paypal e SatisPay.
URL:https://www.goclubdiroma.it/event/primo-torneo-lombardiago/
LOCATION:Biblioteca Affori\, Viale Affori 21\,\, Milano\, MI\, 20161\, Italia
CATEGORIES:Tornei
ATTACH;FMTTYPE=image/jpeg:https://www.goclubdiroma.it/wp-content/uploads/2024/08/lombardiago_logo-e1724182769744.jpg
END:VEVENT
BEGIN:VEVENT
DTSTART;TZID=Europe/Rome:20240903T190000
DTEND;TZID=Europe/Rome:20240903T233000
DTSTAMP:20260421T140709
CREATED:20240830T071501Z
LAST-MODIFIED:20240830T125232Z
UID:6169-1725390000-1725406200@www.goclubdiroma.it
SUMMARY:Giochiamo a GO
DESCRIPTION:Per maggiori informazioni vai sull’evento pubblicato su facebook.
URL:https://www.goclubdiroma.it/event/giochiamo-a-go/
LOCATION:Spiller Villa del contado\, Via Gabriele D'Annunzio\, 51\, Ronchi dei Legionari GO\, Gorizia\, 34077\, Italy
CATEGORIES:Manifestazioni
ATTACH;FMTTYPE=image/jpeg:https://www.goclubdiroma.it/wp-content/uploads/2023/11/logoHiga-1-e1702592574765.jpg
ORGANIZER;CN="Higashikita":MAILTO:info@higashikita.go.it
END:VEVENT
BEGIN:VEVENT
DTSTART;TZID=Europe/Rome:20240823T080000
DTEND;TZID=Europe/Rome:20240823T170000
DTSTAMP:20260421T140709
CREATED:20240818T160525Z
LAST-MODIFIED:20240818T160549Z
UID:6135-1724400000-1724432400@www.goclubdiroma.it
SUMMARY:Foligno - Torneo di GO Esordienti
DESCRIPTION:Dal 23 al 25 agosto\, Foligno sara’ la capitale del gioco del Go\, presso i locali della Biblioteca dei Ragazzi. \nSi partira’ il 23 pomeriggio con un torneo esordienti gratuito aperto a tutti. \n \nIl 24 e 25 sara’ di scena il “1° torneo di Go Citta’ di Foligno” di classe A\, internazionale\, valido per l’assegnazione dei punti tappa della Federazione Italiana Gioco del Go (FIGG).
URL:https://www.goclubdiroma.it/event/foligno-torneo-di-go-esordienti/
LOCATION:Biblioteca ragazzi Foligno\, via Gramsci 22\, Foligno\, PG\, 30610\, Italia
CATEGORIES:F.I.G.G.,Manifestazioni,Tornei
ATTACH;FMTTYPE=image/jpeg:https://www.goclubdiroma.it/wp-content/uploads/2023/05/logo_goClubFoligno.jpg
END:VEVENT
END:VCALENDAR