BEGIN:VCALENDAR
VERSION:2.0
PRODID:-//Go Club di Roma &quot;Fujisawa Shuko&quot; - ECPv6.15.20//NONSGML v1.0//EN
CALSCALE:GREGORIAN
METHOD:PUBLISH
X-ORIGINAL-URL:https://www.goclubdiroma.it
X-WR-CALDESC:Eventi per Go Club di Roma &quot;Fujisawa Shuko&quot;
REFRESH-INTERVAL;VALUE=DURATION:PT1H
X-Robots-Tag:noindex
X-PUBLISHED-TTL:PT1H
BEGIN:VTIMEZONE
TZID:Europe/Rome
BEGIN:DAYLIGHT
TZOFFSETFROM:+0100
TZOFFSETTO:+0200
TZNAME:CEST
DTSTART:20240331T010000
END:DAYLIGHT
BEGIN:STANDARD
TZOFFSETFROM:+0200
TZOFFSETTO:+0100
TZNAME:CET
DTSTART:20241027T010000
END:STANDARD
BEGIN:DAYLIGHT
TZOFFSETFROM:+0100
TZOFFSETTO:+0200
TZNAME:CEST
DTSTART:20250330T010000
END:DAYLIGHT
BEGIN:STANDARD
TZOFFSETFROM:+0200
TZOFFSETTO:+0100
TZNAME:CET
DTSTART:20251026T010000
END:STANDARD
BEGIN:DAYLIGHT
TZOFFSETFROM:+0100
TZOFFSETTO:+0200
TZNAME:CEST
DTSTART:20260329T010000
END:DAYLIGHT
BEGIN:STANDARD
TZOFFSETFROM:+0200
TZOFFSETTO:+0100
TZNAME:CET
DTSTART:20261025T010000
END:STANDARD
END:VTIMEZONE
BEGIN:VEVENT
DTSTART;TZID=Europe/Rome:20250111T211500
DTEND;TZID=Europe/Rome:20250111T230000
DTSTAMP:20260421T123458
CREATED:20250109T223422Z
LAST-MODIFIED:20250109T224855Z
UID:6677-1736630100-1736636400@www.goclubdiroma.it
SUMMARY:RAI 3 Quinta Dimensione: Alessandro Pace e il GCR intervistati su AI e GO
DESCRIPTION:L’universo comprende almeno quattro dimensioni: tre spaziali e una temporale\, a cui si aggiunge la Quinta Dimensione\, quella della conoscenza e curiosità. Barbara Gallavotti esplora il legame tra uomo e natura\, offrendo risposte scientifiche chiare e accessibili. \nNella puntata su RAI 3 che sara’ trasmessa l’11 gennaio 2025 si parlera’ anche di AI e sara’ intervistato Alessandro Pace.
URL:https://www.goclubdiroma.it/event/rai-3-quinta-dimensione-alessandro-pace-e-il-gcr-intervistati-su-ai-e-go/
LOCATION:Privato: RAI 3
CATEGORIES:Manifestazioni
ATTACH;FMTTYPE=image/png:https://www.goclubdiroma.it/wp-content/uploads/2025/01/Rai_3_logo-e1736462031669.png
END:VEVENT
END:VCALENDAR