BEGIN:VCALENDAR
VERSION:2.0
PRODID:-//Go Club di Roma &quot;Fujisawa Shuko&quot; - ECPv6.15.20//NONSGML v1.0//EN
CALSCALE:GREGORIAN
METHOD:PUBLISH
X-ORIGINAL-URL:https://www.goclubdiroma.it
X-WR-CALDESC:Eventi per Go Club di Roma &quot;Fujisawa Shuko&quot;
REFRESH-INTERVAL;VALUE=DURATION:PT1H
X-Robots-Tag:noindex
X-PUBLISHED-TTL:PT1H
BEGIN:VTIMEZONE
TZID:Europe/Rome
BEGIN:DAYLIGHT
TZOFFSETFROM:+0100
TZOFFSETTO:+0200
TZNAME:CEST
DTSTART:20230326T010000
END:DAYLIGHT
BEGIN:STANDARD
TZOFFSETFROM:+0200
TZOFFSETTO:+0100
TZNAME:CET
DTSTART:20231029T010000
END:STANDARD
BEGIN:DAYLIGHT
TZOFFSETFROM:+0100
TZOFFSETTO:+0200
TZNAME:CEST
DTSTART:20240331T010000
END:DAYLIGHT
BEGIN:STANDARD
TZOFFSETFROM:+0200
TZOFFSETTO:+0100
TZNAME:CET
DTSTART:20241027T010000
END:STANDARD
BEGIN:DAYLIGHT
TZOFFSETFROM:+0100
TZOFFSETTO:+0200
TZNAME:CEST
DTSTART:20250330T010000
END:DAYLIGHT
BEGIN:STANDARD
TZOFFSETFROM:+0200
TZOFFSETTO:+0100
TZNAME:CET
DTSTART:20251026T010000
END:STANDARD
BEGIN:DAYLIGHT
TZOFFSETFROM:+0100
TZOFFSETTO:+0200
TZNAME:CEST
DTSTART:20260329T010000
END:DAYLIGHT
BEGIN:STANDARD
TZOFFSETFROM:+0200
TZOFFSETTO:+0100
TZNAME:CET
DTSTART:20261025T010000
END:STANDARD
END:VTIMEZONE
BEGIN:VEVENT
DTSTART;TZID=Europe/Rome:20251207T200000
DTEND;TZID=Europe/Rome:20251207T233000
DTSTAMP:20260421T163713
CREATED:20251129T183708Z
LAST-MODIFIED:20251129T183904Z
UID:7911-1765137600-1765150200@www.goclubdiroma.it
SUMMARY:Torneo di Beer & Go
DESCRIPTION:Per i dettagli leggi l’articolo sul sito di LombardiaGo. \n 
URL:https://www.goclubdiroma.it/event/torneo-di-beer-go/
LOCATION:Club House @Un’Altra Pasta\, Via Carlo Valvassori Peroni 48/3\, Milano\, MI\, 20133\, Italy
CATEGORIES:Tornei
ATTACH;FMTTYPE=image/jpeg:https://www.goclubdiroma.it/wp-content/uploads/2024/08/lombardiago_logo-e1724182769744.jpg
ORGANIZER;CN="Lombardia GO":MAILTO:associazionelombardiago@gmail.com
END:VEVENT
BEGIN:VEVENT
DTSTART;TZID=Europe/Rome:20241206T163000
DTEND;TZID=Europe/Rome:20241206T233000
DTSTAMP:20260421T163713
CREATED:20241130T174938Z
LAST-MODIFIED:20241130T174938Z
UID:6521-1733502600-1733527800@www.goclubdiroma.it
SUMMARY:Lombardia GO: Cena Sociale + Torneo di Beer&Go
DESCRIPTION:Info sull’evento: Il LombardiaGo chiude l’anno organizzando una serata interamente dedicata al Go! \nIl pomeriggio si svolgeranno delle attività dedicate alle varianti di Go con annessi piccoli tornei. \nSeguirà la cena sociale del LombardiaGo\, che sarà un’ottima occasione per discutere insieme delle attività dell’ormai imminente 2025 (o anche solo per bere qualche birra come riscaldamento per l’evento seguente\, decidete voi). \nSi terrà infine la competizione goistica più attesa del 2024: il torneo di Beer & Go! \nL’evento è aperto a tutti: soci\, non soci\, kyu\, dan\, spugne da bar\, astemi\, belli\, brutti\, gente che passa per caso… L’unico requisito è la voglia di giocare a Go!
URL:https://www.goclubdiroma.it/event/lombardia-go-cena-sociale-torneo-di-beergo/
LOCATION:Tempio D’oro\, Via delle Leghe 23\, Milano\, MI\, 20127\, Italy
CATEGORIES:Manifestazioni,Tornei
ATTACH;FMTTYPE=image/png:https://www.goclubdiroma.it/wp-content/uploads/2024/11/logo-lomardiago.png
ORGANIZER;CN="Lombardia GO":MAILTO:associazionelombardiago@gmail.com
END:VEVENT
END:VCALENDAR