BEGIN:VCALENDAR
VERSION:2.0
PRODID:-//Go Club di Roma &quot;Fujisawa Shuko&quot; - ECPv6.15.20//NONSGML v1.0//EN
CALSCALE:GREGORIAN
METHOD:PUBLISH
X-WR-CALNAME:Go Club di Roma &quot;Fujisawa Shuko&quot;
X-ORIGINAL-URL:https://www.goclubdiroma.it
X-WR-CALDESC:Eventi per Go Club di Roma &quot;Fujisawa Shuko&quot;
REFRESH-INTERVAL;VALUE=DURATION:PT1H
X-Robots-Tag:noindex
X-PUBLISHED-TTL:PT1H
BEGIN:VTIMEZONE
TZID:Europe/Rome
BEGIN:DAYLIGHT
TZOFFSETFROM:+0100
TZOFFSETTO:+0200
TZNAME:CEST
DTSTART:20230326T010000
END:DAYLIGHT
BEGIN:STANDARD
TZOFFSETFROM:+0200
TZOFFSETTO:+0100
TZNAME:CET
DTSTART:20231029T010000
END:STANDARD
BEGIN:DAYLIGHT
TZOFFSETFROM:+0100
TZOFFSETTO:+0200
TZNAME:CEST
DTSTART:20240331T010000
END:DAYLIGHT
BEGIN:STANDARD
TZOFFSETFROM:+0200
TZOFFSETTO:+0100
TZNAME:CET
DTSTART:20241027T010000
END:STANDARD
BEGIN:DAYLIGHT
TZOFFSETFROM:+0100
TZOFFSETTO:+0200
TZNAME:CEST
DTSTART:20250330T010000
END:DAYLIGHT
BEGIN:STANDARD
TZOFFSETFROM:+0200
TZOFFSETTO:+0100
TZNAME:CET
DTSTART:20251026T010000
END:STANDARD
BEGIN:DAYLIGHT
TZOFFSETFROM:+0100
TZOFFSETTO:+0200
TZNAME:CEST
DTSTART:20260329T010000
END:DAYLIGHT
BEGIN:STANDARD
TZOFFSETFROM:+0200
TZOFFSETTO:+0100
TZNAME:CET
DTSTART:20261025T010000
END:STANDARD
BEGIN:DAYLIGHT
TZOFFSETFROM:+0100
TZOFFSETTO:+0200
TZNAME:CEST
DTSTART:20270328T010000
END:DAYLIGHT
BEGIN:STANDARD
TZOFFSETFROM:+0200
TZOFFSETTO:+0100
TZNAME:CET
DTSTART:20271031T010000
END:STANDARD
END:VTIMEZONE
BEGIN:VEVENT
DTSTART;TZID=Europe/Rome:20260328T000000
DTEND;TZID=Europe/Rome:20260329T235959
DTSTAMP:20260425T155749
CREATED:20260109T091955Z
LAST-MODIFIED:20260219T111257Z
UID:8163-1774656000-1774828799@www.goclubdiroma.it
SUMMARY:Torneo di GO di Pisa di primavera
DESCRIPTION:Per maggiori informazioni vai al bando del torneo.
URL:https://www.goclubdiroma.it/event/torneo-di-go-di-pisa-di-primavera/
CATEGORIES:Tornei
ATTACH;FMTTYPE=image/png:https://www.goclubdiroma.it/wp-content/uploads/2022/08/toscanago_logo-614.png
END:VEVENT
BEGIN:VEVENT
DTSTART;TZID=Europe/Rome:20260321T000000
DTEND;TZID=Europe/Rome:20260322T235959
DTSTAMP:20260425T155749
CREATED:20260212T082244Z
LAST-MODIFIED:20260212T082244Z
UID:8270-1774051200-1774223999@www.goclubdiroma.it
SUMMARY:Finale CI FIGG 2025
DESCRIPTION:Il 21 e 22 marzo 2026 a Bologna si svolgera’ la finale del Campionati Italiano (CI FIGG) 2025 tra i due finalisti \nDavide Bernardis \ne \nAlessandro Pace \nclassificatisi primo e secondo al torneo CI FIGG 2025.
URL:https://www.goclubdiroma.it/event/finale-ci-figg-2025/
LOCATION:Bologna\, Bologns\, 40100\, Italy
CATEGORIES:F.I.G.G.,Tornei
ATTACH;FMTTYPE=image/png:https://www.goclubdiroma.it/wp-content/uploads/2022/08/figg_logo3-582.png
END:VEVENT
BEGIN:VEVENT
DTSTART;TZID=Europe/Rome:20260228T000000
DTEND;TZID=Europe/Rome:20260301T235959
DTSTAMP:20260425T155749
CREATED:20251219T184937Z
LAST-MODIFIED:20260214T155838Z
UID:8082-1772236800-1772409599@www.goclubdiroma.it
SUMMARY:Tappa FIGG 2026 - Torneo di GO Legnano
DESCRIPTION:Torneo di classe A\, Prima Tappa FIGG 2026. \n \nPer maggiori informazioni vai al sito del LombardiaGo o al sito della FIGG. \nAperte le pre-iscrizioni !!!!
URL:https://www.goclubdiroma.it/event/tappa-figg-2026-torneo-di-go-legnano/
CATEGORIES:F.I.G.G.,Tornei
ATTACH;FMTTYPE=image/jpeg:https://www.goclubdiroma.it/wp-content/uploads/2024/08/lombardiago_logo-e1724182769744.jpg
ORGANIZER;CN="Lombardia GO":MAILTO:associazionelombardiago@gmail.com
END:VEVENT
BEGIN:VEVENT
DTSTART;TZID=Europe/Rome:20260221T000000
DTEND;TZID=Europe/Rome:20260222T235959
DTSTAMP:20260425T155749
CREATED:20260212T080319Z
LAST-MODIFIED:20260212T080319Z
UID:8264-1771632000-1771804799@www.goclubdiroma.it
SUMMARY:Torneo di Go – Faenza
DESCRIPTION:Il Rione Verde di Faenza e’ lieto di ospitare\, il 21 e 22 febbraio 2026\, questo prestigioso torneo di Go\, valido per il ranking nazionale. \nL’evento riunisce giocatori di tutti i livelli per due giorni di sfide avvincenti secondo il sistema McMahon. \nIl torneo e’ aperto a tutti i giocatori\, senza necessita’ di tessera FIGG. \nIl torneo e’ valido per il ranking nazionale e le classifiche regionali. \nPer i dettagli e le iscrizioni clicca qui.
URL:https://www.goclubdiroma.it/event/torneo-di-go-faenza/
LOCATION:Rione Verde Faenza\, Via Camillo Benso Conte di Cavour\, 37\, Faenza\, RA\, 48018\, Italy
CATEGORIES:Tornei
ATTACH;FMTTYPE=image/jpeg:https://www.goclubdiroma.it/wp-content/uploads/2026/02/logoFaenza.jpg
END:VEVENT
BEGIN:VEVENT
DTSTART;TZID=Europe/Rome:20251213T000000
DTEND;TZID=Europe/Rome:20251214T235959
DTSTAMP:20260425T155749
CREATED:20251016T075224Z
LAST-MODIFIED:20251028T224421Z
UID:7710-1765584000-1765756799@www.goclubdiroma.it
SUMMARY:Torneo di GO Open – “Il Gladiatore” 2025 XX edizione
DESCRIPTION:Per maggiori informazioni e per pre-iscriversi clicca qui.
URL:https://www.goclubdiroma.it/event/torneo-di-go-open-il-gladiatore-2025-xx-edizione/
LOCATION:Circolo di Scacchi – Roma Aventino – Mario Albano\, Viale Giotto\, 18\, Roma\, RM\, 00153\, Italy
CATEGORIES:Tornei
ATTACH;FMTTYPE=image/jpeg:https://www.goclubdiroma.it/wp-content/uploads/2023/04/GCR_newlogo.jpg
END:VEVENT
BEGIN:VEVENT
DTSTART;TZID=Europe/Rome:20251122T000000
DTEND;TZID=Europe/Rome:20251123T235959
DTSTAMP:20260425T155749
CREATED:20250501T112703Z
LAST-MODIFIED:20250814T174327Z
UID:7162-1763769600-1763942399@www.goclubdiroma.it
SUMMARY:Campionato Italiano FIGG 2025: torneo di Ravenna
DESCRIPTION:Campionato Italiano FIGG 2025 \nGo Club Ravenna. \nper maggiori informazioni visita il sito FIGG.
URL:https://www.goclubdiroma.it/event/campionato-italiano-figg-2025-torneo-di-ravenna/
LOCATION:Sala Ragazzini\, Basilica di San Francesco\, Ravenna\, Largo Firenze\, Ravenna\, RA\, 48121\, Italy
CATEGORIES:F.I.G.G.,Tornei
ATTACH;FMTTYPE=image/png:https://www.goclubdiroma.it/wp-content/uploads/2022/08/figg_logo3-582.png
ORGANIZER;CN="Go Club Ravenna":MAILTO:go.ravenna@gmail.com
END:VEVENT
BEGIN:VEVENT
DTSTART;TZID=Europe/Rome:20251108T000000
DTEND;TZID=Europe/Rome:20251109T235959
DTSTAMP:20260425T155749
CREATED:20250323T120719Z
LAST-MODIFIED:20250922T101644Z
UID:7033-1762560000-1762732799@www.goclubdiroma.it
SUMMARY:Tappa FIGG: 14° Trofeo Higashikita - Trieste
DESCRIPTION:Per il dettaglio \nbando e iscrizione \nsul sito Higashikita. \n 
URL:https://www.goclubdiroma.it/event/tappa-figg-14-trofeo-higashikita-trieste/
LOCATION:Società Scacchistica Triestina 1904\, Via Trento 16\, Trieste\, TS\, 34132\, Italy
CATEGORIES:F.I.G.G.,Tornei
ATTACH;FMTTYPE=image/jpeg:https://www.goclubdiroma.it/wp-content/uploads/2023/11/logoHiga-1-e1702592574765.jpg
ORGANIZER;CN="Higashikita":MAILTO:info@higashikita.go.it
END:VEVENT
BEGIN:VEVENT
DTSTART;TZID=Europe/Rome:20251011T000000
DTEND;TZID=Europe/Rome:20251012T235959
DTSTAMP:20260425T155749
CREATED:20250211T221457Z
LAST-MODIFIED:20250908T170847Z
UID:6905-1760140800-1760313599@www.goclubdiroma.it
SUMMARY:Tappa FIGG: 2° Torneo Città di Foligno
DESCRIPTION:Per i dettagli clicca qui.\nPer le iscrizioni compila il seguente form.\nElenco preiscritti. \nGo Club Foligno
URL:https://www.goclubdiroma.it/event/tappa-figg-2-torneo-citta-di-foligno/
LOCATION:Biblioteca ragazzi Foligno\, via Gramsci 22\, Foligno\, PG\, 30610\, Italia
CATEGORIES:F.I.G.G.,Tornei
ATTACH;FMTTYPE=image/jpeg:https://www.goclubdiroma.it/wp-content/uploads/2023/05/logo_goClubFoligno.jpg
END:VEVENT
BEGIN:VEVENT
DTSTART;TZID=Europe/Rome:20250927T000000
DTEND;TZID=Europe/Rome:20250928T235959
DTSTAMP:20260425T155749
CREATED:20250922T102659Z
LAST-MODIFIED:20250922T102659Z
UID:7648-1758931200-1759103999@www.goclubdiroma.it
SUMMARY:Tappa FIGG: Torneo di GO - Lombardia GO
DESCRIPTION:Bando e Iscrizione \nsul sito Lombardia GO
URL:https://www.goclubdiroma.it/event/tappa-figg-torneo-di-go-lombardia-go/
LOCATION:Biblioteca Affori\, Viale Affori 21\,\, Milano\, MI\, 20161\, Italia
CATEGORIES:F.I.G.G.,Tornei
ATTACH;FMTTYPE=image/jpeg:https://www.goclubdiroma.it/wp-content/uploads/2024/08/lombardiago_logo-e1724182769744.jpg
ORGANIZER;CN="Lombardia GO":MAILTO:associazionelombardiago@gmail.com
END:VEVENT
BEGIN:VEVENT
DTSTART;TZID=Europe/Rome:20250906T000000
DTEND;TZID=Europe/Rome:20250907T235959
DTSTAMP:20260425T155749
CREATED:20250125T114449Z
LAST-MODIFIED:20250613T064627Z
UID:6769-1757116800-1757289599@www.goclubdiroma.it
SUMMARY:PISA International Wei-qi Cup\, circuito EGF
DESCRIPTION:Il classico torneo autunnale di Pisa quest’anno diventa il “Pisa International Wei-qi Cup”\, sponsorizzato dall’istituto culturale Italia-Cina “Confucio” di Pisa\, e parte del “Grand prix circuit” nell’annuale circuito europeo di EGF. \nPer maggiori informazioni vai al sito di ToscanaGO
URL:https://www.goclubdiroma.it/event/pisa-international-wei-qi-cup-circuito-egf/
LOCATION:Pisa\, Pisa\, Italia
CATEGORIES:EGF,Tornei
ATTACH;FMTTYPE=image/jpeg:https://www.goclubdiroma.it/wp-content/uploads/2023/12/EGF_logoSquare.jpg
END:VEVENT
BEGIN:VEVENT
DTSTART;TZID=Europe/Rome:20250830T000000
DTEND;TZID=Europe/Rome:20250831T235959
DTSTAMP:20260425T155749
CREATED:20250612T172252Z
LAST-MODIFIED:20250620T141355Z
UID:7314-1756512000-1756684799@www.goclubdiroma.it
SUMMARY:Tappa FIGG: torneo di Go a Bari
DESCRIPTION:Il Go Club di Bari organizza la quinta tappa del circuito FIGG 2025\, che si terra’ sabato 30 e domenica 31 agosto 2025. Il torneo e’ tappa FIGG per l’anno 2025. \nPer maggiori informazioni visita la pagina del torneo. \nPer il modulo di pre-iscrizione clicca qui!
URL:https://www.goclubdiroma.it/event/tappa-figg-torneo-di-go-a-bari/
LOCATION:Alc Mellon\, Viale Luigi Einaudi 2/E\, Bari\, BA\, 70125\, Italy
CATEGORIES:F.I.G.G.,Tornei
ATTACH;FMTTYPE=image/jpeg:https://www.goclubdiroma.it/wp-content/uploads/2023/09/bariGoClubLogo.jpg
ORGANIZER;CN="Baduk Bari":MAILTO:badukbari@gmail.com
END:VEVENT
BEGIN:VEVENT
DTSTART;TZID=Europe/Rome:20250614T000000
DTEND;TZID=Europe/Rome:20250615T235959
DTSTAMP:20260425T155749
CREATED:20250501T110347Z
LAST-MODIFIED:20250612T172556Z
UID:7159-1749859200-1750031999@www.goclubdiroma.it
SUMMARY:Tappa FIGG: torneo di Go a Macerata
DESCRIPTION:Il Go Club di Macerata organizza la quarta tappa del circuito FIGG 2025\, che si terra’ sabato 14 e domenica 15 giugno 2025. Il torneo e’ tappa FIGG per l’anno 2025. \nPer maggiori informazioni vai sula pagina del torneo sul sito del Go Club e sul sito FIGG.
URL:https://www.goclubdiroma.it/event/tappa-figg-torneo-di-go-a-macerata-2/
LOCATION:Parrocchia Gesù Buon Pastore\, Via Cesare Pavese\, 2\, 62100 Macerata MC\, Via Cesare Pavese\, 2\, Macerata\, MC\, 62100\, Italy
CATEGORIES:F.I.G.G.,Tornei
ATTACH;FMTTYPE=image/webp:https://www.goclubdiroma.it/wp-content/uploads/2023/12/mcnogo4-g_480x480.webp
ORGANIZER;CN="Macerata No Go":MAILTO:maceratanogo@gmx.com
END:VEVENT
BEGIN:VEVENT
DTSTART;TZID=Europe/Rome:20250517T000000
DTEND;TZID=Europe/Rome:20250518T235959
DTSTAMP:20260425T155749
CREATED:20250201T090555Z
LAST-MODIFIED:20260210T101347Z
UID:6815-1747440000-1747612799@www.goclubdiroma.it
SUMMARY:Tappa FIGG:  III° Memorial Mirco Fanti – 15° Torneo di Bologna
DESCRIPTION:Per maggiori informazioni e per iscriverti vai alla pagina dell’evento sul sito web del Go Club di Bologna.
URL:https://www.goclubdiroma.it/event/tappa-figg-iii-memorial-mirco-fanti-15-torneo-di-bologna/
LOCATION:Circolo Barbanera\, via Ranzani 12/C\, Bologna\, Bologna\, Italia
CATEGORIES:F.I.G.G.,Tornei
ATTACH;FMTTYPE=image/png:https://www.goclubdiroma.it/wp-content/uploads/2023/05/goClubBolognaLogo.png
END:VEVENT
BEGIN:VEVENT
DTSTART;TZID=Europe/Rome:20250412T000000
DTEND;TZID=Europe/Rome:20250413T235959
DTSTAMP:20260425T155749
CREATED:20250211T220737Z
LAST-MODIFIED:20250318T131154Z
UID:6903-1744416000-1744588799@www.goclubdiroma.it
SUMMARY:Tappa FIGG Legnano: Torneo di GO
DESCRIPTION:Tappa FIGG\, Torneo di classe A. \n \nClicca sulla pagina del torneo. \nGo Club Legnano
URL:https://www.goclubdiroma.it/event/legnano-torneo-di-go/
LOCATION:Legnano\, Corso Giuseppe Garibaldi\, 225a\, Legnano\, MI\, 20025\, Italia
CATEGORIES:F.I.G.G.,Tornei
ATTACH;FMTTYPE=image/png:https://www.goclubdiroma.it/wp-content/uploads/2024/08/goClubLegnanoLogo.png
ORGANIZER;CN="Go Club Legnano":MAILTO:goclublegnano@gmail.com
END:VEVENT
BEGIN:VEVENT
DTSTART;TZID=Europe/Rome:20250315T000000
DTEND;TZID=Europe/Rome:20250316T235959
DTSTAMP:20260425T155749
CREATED:20250125T111732Z
LAST-MODIFIED:20250203T204611Z
UID:6766-1741996800-1742169599@www.goclubdiroma.it
SUMMARY:Tappa FIGG: Torneo di GO di Primavera
DESCRIPTION:  \nPer maggiori informazioni vai al sito di ToscanaGO
URL:https://www.goclubdiroma.it/event/tappa-figg-torneo-di-go-di-primavera/
LOCATION:Pisa\, Pisa\, Italia
CATEGORIES:Tornei
ATTACH;FMTTYPE=image/png:https://www.goclubdiroma.it/wp-content/uploads/2022/08/toscanago_logo-614.png
END:VEVENT
BEGIN:VEVENT
DTSTART;TZID=Europe/Rome:20241116T000000
DTEND;TZID=Europe/Rome:20241117T235959
DTSTAMP:20260425T155749
CREATED:20240801T131835Z
LAST-MODIFIED:20240926T220454Z
UID:6011-1731715200-1731887999@www.goclubdiroma.it
SUMMARY:Torneo di GO Tappa FIGG – Torneo “Il Gladiatore” 2024 XIX edizione
DESCRIPTION:Leggi l’articolo per i dettagli del torneo e clicca qui per iscriverti. \nIl luogo del torneo e’: Lycée Chateaubriand\, Via Marcello Malpighi\, 11\, 00161 Roma RM\, Italia.
URL:https://www.goclubdiroma.it/event/torneo-di-go-tappa-figg-torneo-il-gladiatore-2024-xix-edizione/
LOCATION:Lycée Chateaubriand\, Via Marcello Malpighi\, 11\, Roma\, 00161\, Italy
CATEGORIES:F.I.G.G.,Tornei
ATTACH;FMTTYPE=image/jpeg:https://www.goclubdiroma.it/wp-content/uploads/2023/04/GCR_newlogo.jpg
END:VEVENT
BEGIN:VEVENT
DTSTART;TZID=Europe/Rome:20240914T000000
DTEND;TZID=Europe/Rome:20240915T235959
DTSTAMP:20260425T155749
CREATED:20240117T230644Z
LAST-MODIFIED:20240310T193853Z
UID:3786-1726272000-1726444799@www.goclubdiroma.it
SUMMARY:Torneo di GO Tappa FIGG – Pisa
DESCRIPTION:Per maggiori informazioni vai al sito del Toscana Go o al sito della FIGG. \nStay tuned.
URL:https://www.goclubdiroma.it/event/torneo-di-go-tappa-figg-pisa/
LOCATION:Pisa\, Pisa\, Italia
CATEGORIES:F.I.G.G.,Tornei
ATTACH;FMTTYPE=image/png:https://www.goclubdiroma.it/wp-content/uploads/2022/08/toscanago_logo-614.png
END:VEVENT
BEGIN:VEVENT
DTSTART;TZID=Europe/Rome:20240824T000000
DTEND;TZID=Europe/Rome:20240825T235959
DTSTAMP:20260425T155749
CREATED:20240310T185039Z
LAST-MODIFIED:20240823T160738Z
UID:4113-1724457600-1724630399@www.goclubdiroma.it
SUMMARY:Torneo di GO Tappa FIGG – Foligno
DESCRIPTION:1° Torneo Citta’ di Foligno \nSi svolgera’ presso la Biblioteca Ragazzi di Palazzo Deli \, ingresso via Gramsci 22 \nIl torneo e’ riservato ai soci FIGG e agli stranieri soci di un membro EGF\, e ha un costo di iscrizione di 10\,00 € (5\,00 € per i minorenni). Tutti i pagamenti si possono fare sul posto. \nTorneo di classe A\, regole giapponesi\, McMahon\, 5 turni\, 60′ tempo base + 3×30″ byo-yomi\, komi 6.5. \nHandicap ridotto di 2 sotto la top bar. \nSi applicano il regolamento generale tornei EGF e il regolamento tornei FIGG. \n\n\n\nSabato 24 \n\n\n9.30\n\nIscrizioni\n\n\n10.30\n13.00\nPrimo turno\n\n\n\n\n\n\n\n14.00\n16.30\nSecondo turno\n\n\n16.30\n19.00\nTerzo turno\n\n\n\n\n\n\n\n\n\n\n\n\nDomenica 25\n\n\n\n\n10.00\n12.30\nQuarto turno\n\n\n\n\n\n\n\n13.30\n16.00\nQuinto turno\n\n\n16.30\n\nPremiazione e saluti\n\n\n\n\n\n\n\nAlle 21:00 di sabato 24 agosto si svolgera’ nel luogo del torneo una simultanea della giocatrice professionista di Weiqi (GO) Yu Xiaodan (2p). \nPer maggiori informazioni clicca qui. \nPer iscriverti al torneo tramite mail clicca qui.
URL:https://www.goclubdiroma.it/event/torneo-di-go-tappa-figg-foligno/
LOCATION:Biblioteca ragazzi Foligno\, via Gramsci 22\, Foligno\, PG\, 30610\, Italia
CATEGORIES:F.I.G.G.,Tornei
ATTACH;FMTTYPE=image/jpeg:https://www.goclubdiroma.it/wp-content/uploads/2023/05/logo_goClubFoligno.jpg
END:VEVENT
BEGIN:VEVENT
DTSTART;TZID=Europe/Rome:20240629T000000
DTEND;TZID=Europe/Rome:20240630T235959
DTSTAMP:20260425T155749
CREATED:20240117T231432Z
LAST-MODIFIED:20240501T085848Z
UID:3789-1719619200-1719791999@www.goclubdiroma.it
SUMMARY:Torneo di GO Tappa FIGG (Campionato Italiano) – Macerata
DESCRIPTION:  \n \n \nQui il bando del torneo. \nPer iscriversi al torneo clicca qui.
URL:https://www.goclubdiroma.it/event/torneo-di-go-tappa-figg-campionato-italiano-macerata/
LOCATION:Galleria degli Antichi Forni\, Piaggia della Torre\, Macerata\, MC\, 62100\, Italia
CATEGORIES:F.I.G.G.,Tornei
ATTACH;FMTTYPE=image/webp:https://www.goclubdiroma.it/wp-content/uploads/2023/05/mcnogo4-g_480x480.webp
ORGANIZER;CN="Macerata No Go":MAILTO:maceratanogo@gmx.com
END:VEVENT
BEGIN:VEVENT
DTSTART;TZID=Europe/Rome:20240525T000000
DTEND;TZID=Europe/Rome:20240526T235959
DTSTAMP:20260425T155749
CREATED:20240117T225100Z
LAST-MODIFIED:20260210T101302Z
UID:3769-1716595200-1716767999@www.goclubdiroma.it
SUMMARY:Torneo di GO Tappa FIGG – Bologna
DESCRIPTION:Il II° Memorial Mirco Fanti – 14° Torneo di Bologna si terrà Sabato 25 maggio e Domenica 26 maggio 2024\, presso il “Circolo Barbanera” in via Ranzani 12/C a Bologna. \nPer maggiori informazioni clicca qui o vai sul sito della FIGG.
URL:https://www.goclubdiroma.it/event/torneo-di-go-tappa-figg-bologna/
LOCATION:Circolo Barbanera\, via Ranzani 12/C\, Bologna\, Bologna\, Italia
CATEGORIES:F.I.G.G.,Tornei
ATTACH;FMTTYPE=image/png:https://www.goclubdiroma.it/wp-content/uploads/2023/05/goClubBolognaLogo.png
END:VEVENT
BEGIN:VEVENT
DTSTART;TZID=Europe/Rome:20240406T000000
DTEND;TZID=Europe/Rome:20240407T235959
DTSTAMP:20260425T155749
CREATED:20240117T230017Z
LAST-MODIFIED:20240117T230043Z
UID:3776-1712361600-1712534399@www.goclubdiroma.it
SUMMARY:Torneo di GO – Pisa
DESCRIPTION:Per maggiori informazioni vai al sito del Toscana Go. \nStay tuned.
URL:https://www.goclubdiroma.it/event/torneo-di-go-pisa/
LOCATION:Pisa\, Pisa\, Italia
CATEGORIES:Tornei
ATTACH;FMTTYPE=image/png:https://www.goclubdiroma.it/wp-content/uploads/2022/08/toscanago_logo-614.png
END:VEVENT
BEGIN:VEVENT
DTSTART;TZID=Europe/Rome:20240217T000000
DTEND;TZID=Europe/Rome:20240218T235959
DTSTAMP:20260425T155749
CREATED:20231214T220122Z
LAST-MODIFIED:20231214T220311Z
UID:3413-1708128000-1708300799@www.goclubdiroma.it
SUMMARY:Torneo di GO Tappa FIGG - I edizione Romeo&Giulietta NO AJI
DESCRIPTION:Torneo di GO di Classe A\, Tappa FIGG. \nPer iscriversi clicca qui. \nIl regolamento del torneo e’ disponibile qui. \nInfo sul sito di  VenetoGo. \nStay tuned.
URL:https://www.goclubdiroma.it/event/xtorneo-di-go-tappa-figg-i-edizione-romeogiulietta-no-aji/
LOCATION:Marano di Valpolicella\, via dell'Artigianato 38\, Marano di Valpolicella\, Italia
CATEGORIES:F.I.G.G.,Tornei
ATTACH;FMTTYPE=image/jpeg:https://www.goclubdiroma.it/wp-content/uploads/2023/12/logoPiccoloVenetoGo.jpg
END:VEVENT
END:VCALENDAR