BEGIN:VCALENDAR
VERSION:2.0
PRODID:-//Go Club di Roma &quot;Fujisawa Shuko&quot; - ECPv6.15.20//NONSGML v1.0//EN
CALSCALE:GREGORIAN
METHOD:PUBLISH
X-ORIGINAL-URL:https://www.goclubdiroma.it
X-WR-CALDESC:Eventi per Go Club di Roma &quot;Fujisawa Shuko&quot;
REFRESH-INTERVAL;VALUE=DURATION:PT1H
X-Robots-Tag:noindex
X-PUBLISHED-TTL:PT1H
BEGIN:VTIMEZONE
TZID:Europe/Rome
BEGIN:DAYLIGHT
TZOFFSETFROM:+0100
TZOFFSETTO:+0200
TZNAME:CEST
DTSTART:20240331T010000
END:DAYLIGHT
BEGIN:STANDARD
TZOFFSETFROM:+0200
TZOFFSETTO:+0100
TZNAME:CET
DTSTART:20241027T010000
END:STANDARD
BEGIN:DAYLIGHT
TZOFFSETFROM:+0100
TZOFFSETTO:+0200
TZNAME:CEST
DTSTART:20250330T010000
END:DAYLIGHT
BEGIN:STANDARD
TZOFFSETFROM:+0200
TZOFFSETTO:+0100
TZNAME:CET
DTSTART:20251026T010000
END:STANDARD
BEGIN:DAYLIGHT
TZOFFSETFROM:+0100
TZOFFSETTO:+0200
TZNAME:CEST
DTSTART:20260329T010000
END:DAYLIGHT
BEGIN:STANDARD
TZOFFSETFROM:+0200
TZOFFSETTO:+0100
TZNAME:CET
DTSTART:20261025T010000
END:STANDARD
END:VTIMEZONE
BEGIN:VEVENT
DTSTART;TZID=Europe/Rome:20251002T000000
DTEND;TZID=Europe/Rome:20251005T235959
DTSTAMP:20260426T055924
CREATED:20250723T123718Z
LAST-MODIFIED:20250723T123718Z
UID:7489-1759363200-1759708799@www.goclubdiroma.it
SUMMARY:ROMICS d'Autunno 2025
DESCRIPTION:La 35^ edizione di Romics si terra’ dal 2 al 5 ottobre 2025 presso Fiera Roma e l’Area Entertainment\, il grande spazio dedicato alle associazioni ludiche e fan club provenienti da tutta Italia\, offrira’ esperienze coinvolgenti e popolera’ l’evento con personaggi leggendari.
URL:https://www.goclubdiroma.it/event/romics-dautunno-2025/
LOCATION:Nuova Fiera di Roma\, Via Portuense\, 1645/1647\, Roma\, RM\, 00148\, Italia
CATEGORIES:Manifestazioni
ATTACH;FMTTYPE=image/png:https://www.goclubdiroma.it/wp-content/uploads/2025/01/logo_romics_aprile_ottobre_25_it_0.png
ORGANIZER;CN="ROMICS":MAILTO:info@romics.it
END:VEVENT
END:VCALENDAR