BEGIN:VCALENDAR
VERSION:2.0
PRODID:-//Go Club di Roma &quot;Fujisawa Shuko&quot; - ECPv6.15.20//NONSGML v1.0//EN
CALSCALE:GREGORIAN
METHOD:PUBLISH
X-ORIGINAL-URL:https://www.goclubdiroma.it
X-WR-CALDESC:Eventi per Go Club di Roma &quot;Fujisawa Shuko&quot;
REFRESH-INTERVAL;VALUE=DURATION:PT1H
X-Robots-Tag:noindex
X-PUBLISHED-TTL:PT1H
BEGIN:VTIMEZONE
TZID:Europe/Rome
BEGIN:DAYLIGHT
TZOFFSETFROM:+0100
TZOFFSETTO:+0200
TZNAME:CEST
DTSTART:20220327T010000
END:DAYLIGHT
BEGIN:STANDARD
TZOFFSETFROM:+0200
TZOFFSETTO:+0100
TZNAME:CET
DTSTART:20221030T010000
END:STANDARD
BEGIN:DAYLIGHT
TZOFFSETFROM:+0100
TZOFFSETTO:+0200
TZNAME:CEST
DTSTART:20230326T010000
END:DAYLIGHT
BEGIN:STANDARD
TZOFFSETFROM:+0200
TZOFFSETTO:+0100
TZNAME:CET
DTSTART:20231029T010000
END:STANDARD
BEGIN:DAYLIGHT
TZOFFSETFROM:+0100
TZOFFSETTO:+0200
TZNAME:CEST
DTSTART:20240331T010000
END:DAYLIGHT
BEGIN:STANDARD
TZOFFSETFROM:+0200
TZOFFSETTO:+0100
TZNAME:CET
DTSTART:20241027T010000
END:STANDARD
BEGIN:DAYLIGHT
TZOFFSETFROM:+0100
TZOFFSETTO:+0200
TZNAME:CEST
DTSTART:20250330T010000
END:DAYLIGHT
BEGIN:STANDARD
TZOFFSETFROM:+0200
TZOFFSETTO:+0100
TZNAME:CET
DTSTART:20251026T010000
END:STANDARD
BEGIN:DAYLIGHT
TZOFFSETFROM:+0100
TZOFFSETTO:+0200
TZNAME:CEST
DTSTART:20260329T010000
END:DAYLIGHT
BEGIN:STANDARD
TZOFFSETFROM:+0200
TZOFFSETTO:+0100
TZNAME:CET
DTSTART:20261025T010000
END:STANDARD
END:VTIMEZONE
BEGIN:VEVENT
DTSTART;TZID=Europe/Rome:20250906T000000
DTEND;TZID=Europe/Rome:20250907T235959
DTSTAMP:20260425T195405
CREATED:20250125T114449Z
LAST-MODIFIED:20250613T064627Z
UID:6769-1757116800-1757289599@www.goclubdiroma.it
SUMMARY:PISA International Wei-qi Cup\, circuito EGF
DESCRIPTION:Il classico torneo autunnale di Pisa quest’anno diventa il “Pisa International Wei-qi Cup”\, sponsorizzato dall’istituto culturale Italia-Cina “Confucio” di Pisa\, e parte del “Grand prix circuit” nell’annuale circuito europeo di EGF. \nPer maggiori informazioni vai al sito di ToscanaGO
URL:https://www.goclubdiroma.it/event/pisa-international-wei-qi-cup-circuito-egf/
LOCATION:Pisa\, Pisa\, Italia
CATEGORIES:EGF,Tornei
ATTACH;FMTTYPE=image/jpeg:https://www.goclubdiroma.it/wp-content/uploads/2023/12/EGF_logoSquare.jpg
END:VEVENT
BEGIN:VEVENT
DTSTART;TZID=Europe/Rome:20250103T000000
DTEND;TZID=Europe/Rome:20250106T235959
DTSTAMP:20260425T195405
CREATED:20241229T080213Z
LAST-MODIFIED:20250613T064233Z
UID:6639-1735862400-1736207999@www.goclubdiroma.it
SUMMARY:8th European Grand Prix Finale 2024
DESCRIPTION:Per maggiori informazioni vedi l’articolo sul sito del Go Club di Roma o sulla pagina del sito dell’EGF. \nLe partite trasmesse in diretta su KGS saranno commentate in diretta streaming sul canale Twitch di EGF. \n\n\n\n3rd January  Friday\n\n\n17:30\nOpening\n\n\n18:00\nRound 1\n\n\n4th January  Saturday\n\n\n\n10:00\nRound 2\n\n\n14:15\nRound 3\n\n\n19:00\nTie-break games (optional)\n\n\n5th January Sunday\n\n\n\n10:00\nRound 4 – Quarterfinal\n\n\n14:15\nRound 5 – Semifinal\n\n\n6th January  Monday\n\n\n\n10:00\nRound 6 – Final round\n\n\n13:30\nPricegiving – Closing\n\n\n\n  \n 
URL:https://www.goclubdiroma.it/event/8th-european-grand-prix-finale-2024/
LOCATION:Studentenhaus Karlsruhe\, Adenauerring 7\, Karlsruhe\, 76131\, Germany
CATEGORIES:EGF,Tornei
ATTACH;FMTTYPE=image/jpeg:https://www.goclubdiroma.it/wp-content/uploads/2023/12/EGF_logoRectangle.jpg
END:VEVENT
BEGIN:VEVENT
DTSTART;TZID=Europe/Rome:20240726T000000
DTEND;TZID=Europe/Rome:20240810T235959
DTSTAMP:20260425T195405
CREATED:20240722T204843Z
LAST-MODIFIED:20240722T205019Z
UID:5965-1721952000-1723334399@www.goclubdiroma.it
SUMMARY:European Go Congress 2024
DESCRIPTION:Tutte le informazioni sul sito dell’evento.\nContatti
URL:https://www.goclubdiroma.it/event/european-go-congress-2024/
LOCATION:École Nationale de l’Aviation Civile\, 7 avenue Edouard Belin\, Toulouse\, 31400\, Francia
CATEGORIES:EGF,Manifestazioni
ATTACH;FMTTYPE=image/jpeg:https://www.goclubdiroma.it/wp-content/uploads/2024/07/egc2024-logo-2-e1721681405969.jpg
END:VEVENT
BEGIN:VEVENT
DTSTART;TZID=Europe/Rome:20240611T200000
DTEND;TZID=Europe/Rome:20240611T233000
DTSTAMP:20260425T195405
CREATED:20240607T153032Z
LAST-MODIFIED:20240611T211958Z
UID:5581-1718136000-1718148600@www.goclubdiroma.it
SUMMARY:PGETC Spareggio per la lega A (tavolo 1°\, 4° e 5°)
DESCRIPTION:La squadra italiana\, arrivata seconda nella lega B del  Pandanet Go Euro Team Championship 14 edizione \, sta per giocare lo spareggio contro la squadra svedese\, penultima della lega A.\nLa squadra che vince giochera’ nella lega A nella prossima stagione\, quella che perde nella lega B. \nTutte le partite saranno su Pandanet\, stanza EuroTeamChamps. \nOggi martedi’ 11 giugno dalle ore 20:00 si gioca rispettivamente ai tavoli 1°\, 4° e 5° \n\nDavide Bernardis 6d vs Fredrik Blomback 7d (sgf)\nDavide Minieri 3d vs Erik Ouchterlony 3d (sgf)\nAlessandro Martinelli 3d vs Anton Christenson 3d (sgf)\n\nLe partite saranno visibili sul server di Pandanet-igs\, stanza EuroTeamChamps\, tramite client (vedi l’articolo corrispettivo) \n 
URL:https://www.goclubdiroma.it/event/spareggio-per-la-lega-a-tavolo-1-3-e-5/
LOCATION:Pandanet IGS
CATEGORIES:On-Line,Tornei
ATTACH;FMTTYPE=image/png:https://www.goclubdiroma.it/wp-content/uploads/2023/10/pandanet_banner.png
END:VEVENT
BEGIN:VEVENT
DTSTART;TZID=Europe/Rome:20240610T200000
DTEND;TZID=Europe/Rome:20240610T233000
DTSTAMP:20260425T195405
CREATED:20240607T152036Z
LAST-MODIFIED:20240611T212401Z
UID:5577-1718049600-1718062200@www.goclubdiroma.it
SUMMARY:PGETC Spareggio per la lega A (3° tavolo)
DESCRIPTION:La squadra italiana\, arrivata seconda nella lega B del  Pandanet Go Euro Team Championship 14 edizione \, sta per giocare lo spareggio contro la squadra svedese\, penultima della lega A.\nLa squadra che vince giochera’ nella lega A nella prossima stagione\, quella che perde nella lega B. \nTutte le partite saranno su Pandanet\, stanza EuroTeamChamps. \nOggi lunedi’ 10 giugno dalle ore 20:00 al 3° tavolo \n\nCarlo Metta 4d vs Charlie Åkerblom 5d (sgf)\n\nLa partita sara’ visibile sul server di Pandanet-igs\, stanza EuroTeamChamps\, tramite client (vedi l’articolo corrispettivo)
URL:https://www.goclubdiroma.it/event/spareggio-per-la-lega-a-3-tavolo/
LOCATION:Pandanet IGS
CATEGORIES:On-Line,Tornei
ATTACH;FMTTYPE=image/png:https://www.goclubdiroma.it/wp-content/uploads/2023/10/pandanet_banner.png
END:VEVENT
BEGIN:VEVENT
DTSTART;TZID=Europe/Rome:20240607T200000
DTEND;TZID=Europe/Rome:20240607T233000
DTSTAMP:20260425T195405
CREATED:20240607T150716Z
LAST-MODIFIED:20240610T210435Z
UID:5576-1717790400-1717803000@www.goclubdiroma.it
SUMMARY:PGETC Spareggio per la lega A (2° tavolo)
DESCRIPTION:La squadra italiana\, arrivata seconda nella lega B del  Pandanet Go Euro Team Championship 14 edizione \, sta per giocare lo spareggio contro la squadra svedese\, penultima della lega A.\nLa squadra che vince giochera’ nella lega A nella prossima stagione\, quella che perde nella lega B. \nTutte le partite saranno su Pandanet\, stanza EuroTeamChamps. \nOggi venerdi’ 7 giugno dalle ore 20:00 al 2° tavolo \n\nAlessandro Pace 5d vs Jérôme Salignon 5d (sgf)\n\nLa partita sara’ visibile sul server di Pandanet-igs\, stanza EuroTeamChamps\, tramite client (vedi l’articolo corrispettivo)
URL:https://www.goclubdiroma.it/event/spareggio-per-la-lega-a-2-tavolo/
LOCATION:Pandanet IGS
CATEGORIES:On-Line,Tornei
ATTACH;FMTTYPE=image/png:https://www.goclubdiroma.it/wp-content/uploads/2023/10/pandanet_banner.png
END:VEVENT
BEGIN:VEVENT
DTSTART;TZID=Europe/Rome:20240528T200000
DTEND;TZID=Europe/Rome:20240528T233000
DTSTAMP:20260425T195405
CREATED:20240525T075858Z
LAST-MODIFIED:20240525T080550Z
UID:5362-1716926400-1716939000@www.goclubdiroma.it
SUMMARY:PGETC League B 2023/2024 – Round 9 Italia vs Turchia (partite 1°\, 2° \, 3° e 4° tavolo)
DESCRIPTION:Nel nono turno del  Pandanet Go Euro Team Championship 14 edizione si incontrano Italia vs Turchia \nOggi lunedi’ 28 maggio dalle ore 20:00 rispettivamente al 1°\, 3° e 4° tavolo \n\nDavide Bernardis 6d vs Denis Karadaban 6d\nCarlo Metta 4d vs Hüsrev Aksüt 4d\nDavide Minieri 3d vs Altan Kuntay 3d\n\ne dalle ore 21:00 al 2° tavolo \n\nAlessandro Pace 5d vs Özgür Değirmenci 5d\n\nPartite che saranno visibili sul server di Pandanet-igs\, stanza EuroTeamChamps\, tramite client (vedi l’articolo corrispettivo)
URL:https://www.goclubdiroma.it/event/pgetc-league-b-2023-2024-round-9-italia-vs-turchia-partite-1-2-3-e-4-tavolo/
LOCATION:Pandanet IGS
CATEGORIES:On-Line,Tornei
ATTACH;FMTTYPE=image/png:https://www.goclubdiroma.it/wp-content/uploads/2023/10/pandanet_banner.png
END:VEVENT
BEGIN:VEVENT
DTSTART;TZID=Europe/Rome:20240507T200000
DTEND;TZID=Europe/Rome:20240507T233000
DTSTAMP:20260425T195405
CREATED:20240503T125951Z
LAST-MODIFIED:20240503T130118Z
UID:4590-1715112000-1715124600@www.goclubdiroma.it
SUMMARY:PGETC League B 2023/2024 – Round 8 Italia vs Croazia (partita 2° tavolo)
DESCRIPTION:Nell’ottavo turno del  Pandanet Go Euro Team Championship 14 edizione si incontrano Italia vs Croazia \nOggi martedi’ 7 maggio dalle ore 20:00 al 2° tavolo \n\nAlessandro Pace 5d vs Stjepan Medak 4d\n\nPartita che sara’ visibile sul server di Pandanet-igs tramite client (vedi l’articolo corrispettivo)
URL:https://www.goclubdiroma.it/event/pgetc-league-b-2023-2024-round-8-italia-vs-croazia-partita-2-tavolo/
LOCATION:Pandanet IGS
CATEGORIES:On-Line,Tornei
ATTACH;FMTTYPE=image/png:https://www.goclubdiroma.it/wp-content/uploads/2023/10/pandanet_banner.png
END:VEVENT
BEGIN:VEVENT
DTSTART;TZID=Europe/Rome:20240506T200000
DTEND;TZID=Europe/Rome:20240506T233000
DTSTAMP:20260425T195405
CREATED:20240503T130929Z
LAST-MODIFIED:20240503T130929Z
UID:4594-1715025600-1715038200@www.goclubdiroma.it
SUMMARY:PGETC League B 2023/2024 – Round 8 Italia vs Croazia (partite 1°\, 3° e 4° tavolo)
DESCRIPTION:Nell’ottavo turno del  Pandanet Go Euro Team Championship 14 edizione si incontrano Italia vs Croazia \nOggi lunedi’ 6 maggio dalle ore 20:00 rispettivamente al 1°\, 3° e 4° tavolo \n\nDavide Bernardis 5d vs Stjepan Meštrović 4d\nCarlo Metta 4d vs Mirta Medak 3d\nDavide Minieri 3d vs Roko Crvelin 3d\n\nPartite che saranno visibili sul server di Pandanet-igs tramite client (vedi l’articolo corrispettivo)
URL:https://www.goclubdiroma.it/event/pgetc-league-b-2023-2024-round-8-italia-vs-croazia-partite-1-3-e-4-tavolo/
LOCATION:Pandanet IGS
CATEGORIES:On-Line,Tornei
ATTACH;FMTTYPE=image/png:https://www.goclubdiroma.it/wp-content/uploads/2023/10/pandanet_banner.png
END:VEVENT
BEGIN:VEVENT
DTSTART;TZID=Europe/Rome:20240402T210000
DTEND;TZID=Europe/Rome:20240402T233000
DTSTAMP:20260425T195405
CREATED:20240325T074455Z
LAST-MODIFIED:20240325T074613Z
UID:4124-1712091600-1712100600@www.goclubdiroma.it
SUMMARY:PGETC League B 2023/2024 – Round 7 Italia vs Irlanda (partite 2°\, 3° e 4° tavolo)
DESCRIPTION:Nel quinto turno del  Pandanet Go Euro Team Championship 14 edizione si incontrano Italia vs Irlanda \nOggi martedi’ 2 aprile dalle ore 21:00 rispettivamente al 2°\, 3° e 4° tavolo \n\nAlessandro Pace 5d vs Philippe Renaut 2d\nCarlo Metta 4d vs John Courtney 3d\nDavide Minieri 3d vs Matei Garcia 1d\n\nPartite che saranno visibili sul server di Pandanet-igs tramite client (vedi l’articolo corrispettivo)
URL:https://www.goclubdiroma.it/event/pgetc-league-b-2023-2024-round-7-italia-vs-irlanda-partite-2-3-e-4-tavolo/
LOCATION:Pandanet IGS
CATEGORIES:On-Line,Tornei
ATTACH;FMTTYPE=image/png:https://www.goclubdiroma.it/wp-content/uploads/2023/10/pandanet_banner.png
END:VEVENT
BEGIN:VEVENT
DTSTART;TZID=Europe/Rome:20240401T230000
DTEND;TZID=Europe/Rome:20240402T013000
DTSTAMP:20260425T195405
CREATED:20240325T073548Z
LAST-MODIFIED:20240401T124310Z
UID:4120-1712012400-1712021400@www.goclubdiroma.it
SUMMARY:PGETC League B 2023/2024 – Round 7 Italia vs Irlanda (partita 1° tavolo)
DESCRIPTION:Nel settimo turno del  Pandanet Go Euro Team Championship 14 edizione si incontrano Italia vs Irlanda \nOggi lunedi’ 1 aprile dalle ore 23:00 la partita al 1° tavolo \n\nDavide Bernardis 6d vs Karl Irwin 4d\n\nPartita che sara’ visibile sul server di Pandanet-igs tramite client (vedi l’articolo corrispettivo)
URL:https://www.goclubdiroma.it/event/pgetc-league-b-2023-2024-round-7-italia-vs-irlanda-partita-1-tavolo/
LOCATION:Pandanet IGS
CATEGORIES:On-Line,Tornei
ATTACH;FMTTYPE=image/png:https://www.goclubdiroma.it/wp-content/uploads/2023/10/pandanet_banner.png
END:VEVENT
BEGIN:VEVENT
DTSTART;TZID=Europe/Rome:20240305T200000
DTEND;TZID=Europe/Rome:20240305T223000
DTSTAMP:20260425T195405
CREATED:20240301T140914Z
LAST-MODIFIED:20240305T191238Z
UID:4088-1709668800-1709677800@www.goclubdiroma.it
SUMMARY:PGETC League B 2023/2024 – Round 6 Svizzera vs Italia (partita 4° tavolo)
DESCRIPTION:Nel sesto turno del  Pandanet Go Euro Team Championship 14 edizione si incontrano Svizzera vs Italia \nOggi martedi’ 5 marzo dalle ore 20:00 al 4° tavolo \n\nDavide Minieri 3d vs Flavien Aubelle 2d\n\nLe partite sono visibili sul server di Pandanet-IGS\, stanza Euro Team Champs tramite client (vedi l’articolo corrispettivo).
URL:https://www.goclubdiroma.it/event/pgetc-league-b-2023-2024-round-6-svizzera-vs-italia-partita-4-tavolo/
LOCATION:Pandanet IGS
CATEGORIES:On-Line,Tornei
ATTACH;FMTTYPE=image/png:https://www.goclubdiroma.it/wp-content/uploads/2023/10/pandanet_banner.png
END:VEVENT
BEGIN:VEVENT
DTSTART;TZID=Europe/Rome:20240304T210000
DTEND;TZID=Europe/Rome:20240304T233000
DTSTAMP:20260425T195405
CREATED:20240301T140252Z
LAST-MODIFIED:20240301T141051Z
UID:4085-1709586000-1709595000@www.goclubdiroma.it
SUMMARY:PGETC League B 2023/2024 – Round 6 Svizzera vs Italia (partita 2° tavolo)
DESCRIPTION:Nel sesto turno del  Pandanet Go Euro Team Championship 14 edizione si incontrano Svizzera vs Italia \nOggi sabato 2 marzo dalle ore 21:00 al 2° tavolo \n\nAlessandro Pace 5d vs Armel-David Wolff 4d\n\nLe partite sono visibili sul server di Pandanet-IGS\, stanza Euro Team Champs tramite client (vedi l’articolo corrispettivo).
URL:https://www.goclubdiroma.it/event/pgetc-league-b-2023-2024-round-6-svizzera-vs-italia-partita-2-tavolo/
LOCATION:Pandanet IGS
CATEGORIES:On-Line,Tornei
ATTACH;FMTTYPE=image/png:https://www.goclubdiroma.it/wp-content/uploads/2023/10/pandanet_banner.png
END:VEVENT
BEGIN:VEVENT
DTSTART;TZID=Europe/Rome:20240303T200000
DTEND;TZID=Europe/Rome:20240303T223000
DTSTAMP:20260425T195405
CREATED:20240301T135824Z
LAST-MODIFIED:20240301T140746Z
UID:4076-1709496000-1709505000@www.goclubdiroma.it
SUMMARY:PGETC League B 2023/2024 – Round 6 Svizzera vs Italia (partita 1° tavolo)
DESCRIPTION:Nel sesto turno del  Pandanet Go Euro Team Championship 14 edizione si incontrano Svizzera vs Italia \nOggi sabato 2 marzo dalle ore 20:00 al 1° tavolo \n\nDavide Bernardis 6d vs John Walch 4d\n\nLe partite sono visibili sul server di Pandanet-IGS\, stanza Euro Team Champs tramite client (vedi l’articolo corrispettivo).
URL:https://www.goclubdiroma.it/event/pgetc-league-b-2023-2024-round-6-svizzera-vs-italia-partita-1-tavolo/
LOCATION:Pandanet IGS
CATEGORIES:On-Line,Tornei
ATTACH;FMTTYPE=image/png:https://www.goclubdiroma.it/wp-content/uploads/2023/10/pandanet_banner.png
END:VEVENT
BEGIN:VEVENT
DTSTART;TZID=Europe/Rome:20240302T150000
DTEND;TZID=Europe/Rome:20240302T173000
DTSTAMP:20260425T195405
CREATED:20240301T134229Z
LAST-MODIFIED:20240301T141114Z
UID:4073-1709391600-1709400600@www.goclubdiroma.it
SUMMARY:PGETC League B 2023/2024 – Round 6 Svizzera vs Italia (partita 3° tavolo)
DESCRIPTION:Nel sesto turno del  Pandanet Go Euro Team Championship 14 edizione si incontrano Svizzera vs Italia \nOggi sabato 2 marzo dalle ore 15:00 al 3° tavolo \n\nCarlo Metta 4d vs Fabien Lips 4d\n\nLe partite sono visibili sul server di Pandanet-IGS\, stanza Euro Team Champs tramite client (vedi l’articolo corrispettivo).
URL:https://www.goclubdiroma.it/event/pgetc-league-b-2023-2024-round-6-svizzera-vs-italia-partita-3-tavolo/
LOCATION:Pandanet IGS
CATEGORIES:On-Line,Tornei
ATTACH;FMTTYPE=image/png:https://www.goclubdiroma.it/wp-content/uploads/2023/10/pandanet_banner.png
END:VEVENT
BEGIN:VEVENT
DTSTART;TZID=Europe/Rome:20240208T200000
DTEND;TZID=Europe/Rome:20240208T200000
DTSTAMP:20260425T195405
CREATED:20240202T132044Z
LAST-MODIFIED:20240204T063715Z
UID:3904-1707422400-1707422400@www.goclubdiroma.it
SUMMARY:PGETC League B 2023/2024 – Round 5 Italia vs Serbia (partita 1° tavolo)
DESCRIPTION:Nel quinto turno del  Pandanet Go Euro Team Championship 14 edizione si incontrano Italia vs Serbia \nOggi giovedi’ 8 febbraio dalle ore 20:00 la partita al 1° tavolo \n\nDavide Bernardis 6d vs Milos Bojanic 4d\n\nPartita che sara’ visibile sul server di Pandanet-igs tramite client (vedi l’articolo corrispettivo)
URL:https://www.goclubdiroma.it/event/pgetc-league-b-2023-2024-round-5-italia-vs-serbia-partita-1-tavolo/
LOCATION:Pandanet IGS
CATEGORIES:On-Line,Tornei
ATTACH;FMTTYPE=image/png:https://www.goclubdiroma.it/wp-content/uploads/2023/10/pandanet_banner.png
END:VEVENT
BEGIN:VEVENT
DTSTART;TZID=Europe/Rome:20240206T200000
DTEND;TZID=Europe/Rome:20240206T200000
DTSTAMP:20260425T195405
CREATED:20240202T131208Z
LAST-MODIFIED:20240202T131518Z
UID:3893-1707249600-1707249600@www.goclubdiroma.it
SUMMARY:PGETC League B 2023/2024 – Round 5 Italia vs Serbia (partite 2°\, 3° e 4° tavolo)
DESCRIPTION:Nel quinto turno del  Pandanet Go Euro Team Championship 14 edizione si incontrano Italia vs Serbia \nOggi martedi’ 6 febbraio dalle ore 20:00 rispettivamente al 2°\, 3° e 4° tavolo \n\nAlessandro Pace 5d vs Dragan Dubakovic 3d\nCarlo Metta 4d vs Misa Alimpic 3d\nDavide Minieri 3d vs Vuk Dusanic 1d\n\nPartite che saranno visibili sul server di Pandanet-igs tramite client (vedi l’articolo corrispettivo)
URL:https://www.goclubdiroma.it/event/pgetc-league-b-2023-2024-round-5-italia-vs-serbia-partite-2-3-e-4-tavolo/
LOCATION:Pandanet IGS
CATEGORIES:On-Line,Tornei
ATTACH;FMTTYPE=image/png:https://www.goclubdiroma.it/wp-content/uploads/2023/10/pandanet_banner.png
END:VEVENT
BEGIN:VEVENT
DTSTART;TZID=Europe/Rome:20240115T140000
DTEND;TZID=Europe/Rome:20240115T170000
DTSTAMP:20260425T195405
CREATED:20240112T150711Z
LAST-MODIFIED:20240113T092919Z
UID:3740-1705327200-1705338000@www.goclubdiroma.it
SUMMARY:League B 2023/2024 - Round 4 Italia vs Belgio (1 partita)
DESCRIPTION:Nel quarto turno la nostra squadra affronterà quella del Belgio. \n\ntavolo 1: Davide Bernardis 6d vs Lucas Neirynck 6d 14/01 alle 9:30 15/01 alle 14:00
URL:https://www.goclubdiroma.it/event/league-b-2023-2024-round-4-italia-vs-belgio-1-partita/
LOCATION:Pandanet IGS
CATEGORIES:EGF,Tornei
ATTACH;FMTTYPE=image/png:https://www.goclubdiroma.it/wp-content/uploads/2023/10/pandanet_banner.png
END:VEVENT
BEGIN:VEVENT
DTSTART;TZID=Europe/Rome:20240113T200000
DTEND;TZID=Europe/Rome:20240113T233000
DTSTAMP:20260425T195405
CREATED:20240112T145901Z
LAST-MODIFIED:20240112T150716Z
UID:3732-1705176000-1705188600@www.goclubdiroma.it
SUMMARY:League B 2023/2024 - Round 4 Italia vs Belgio (3 partite)
DESCRIPTION:Nel quarto turno la nostra squadra affronterà quella del Belgio. \n\ntavolo 2: Alessandro Pace 5d vs Jan Ramon 3d 13/01 alle 20:00\ntavolo 3: Carlo Metta 4d vs Sven Cuyt 2d 13/01 alle 20:00\ntavolo 4: Davide Minieri 3d vs Nelis Vets 2d 13/01 alle 21:00
URL:https://www.goclubdiroma.it/event/league-b-2023-2024-round-4-italia-vs-belgio-3-partite/
LOCATION:Pandanet IGS
CATEGORIES:EGF,Tornei
ATTACH;FMTTYPE=image/png:https://www.goclubdiroma.it/wp-content/uploads/2023/10/pandanet_banner.png
END:VEVENT
BEGIN:VEVENT
DTSTART;TZID=Europe/Rome:20240113T100000
DTEND;TZID=Europe/Rome:20240113T170000
DTSTAMP:20260425T195405
CREATED:20240112T155051Z
LAST-MODIFIED:20240113T105314Z
UID:3746-1705140000-1705165200@www.goclubdiroma.it
SUMMARY:EYGTC: Italia vs Cecoslovacchia (3 partite)
DESCRIPTION:3° turno del campionato europeo giovanile a squadre (European Youth Go Team Competition 2023/24)\, l’Italia giochera’ contro la Cecoslovacchia. \nUnder 20 \n\nDavide Bernardis 6d vs Ondrej Králik 3d 11/01 ore 20:00 (GIA’ GIOCATA)\n\nUnder 16 \n\nFlavio Romagnoli 1k vs Jan Komín 2d 10/01 ore 19:00 (GIA’ GIOCATA)\nEliseo Gastoni 12k vs Jakub Kolář 10k 13/01 ore 10:00 (partita su EidoGo)\n\nUnder 12 \n\nAnna Grasso 19k vs Juraj Kráľ 17k 13/01 ore 14:00\nNiccolo’ Grasso 23k vs Filip Grosser 17k 13/01 ore 14:00\n\nSu KGS\, stanza Euro youth team. \nPer il client KGS vedere questo articolo del sito del Go Club di Roma e il manuale.
URL:https://www.goclubdiroma.it/event/eygtc-italia-vs-cecoslovacchia-3-partite/
LOCATION:KGS – Kiseido Go Server
CATEGORIES:EGF,Tornei
ATTACH;FMTTYPE=image/jpeg:https://www.goclubdiroma.it/wp-content/uploads/2023/12/EGF_logoRectangle.jpg
END:VEVENT
BEGIN:VEVENT
DTSTART;TZID=Europe/Rome:20231228T000000
DTEND;TZID=Europe/Rome:20231231T235959
DTSTAMP:20260425T195405
CREATED:20231215T215245Z
LAST-MODIFIED:20231228T162350Z
UID:3458-1703721600-1704067199@www.goclubdiroma.it
SUMMARY:European Grand Prix Finale 2023
DESCRIPTION:London – European Grand Prix Finale 2023\n28th – 31st December\nGrand Prix Finale\n\n\n\n\n\n\n\n28.12.2023\n31.12.2023\nGB\nLondon\n49th London Open Go Congress\n\n\n\nIl nostro Alessandro Pace e’ stato invitato a partecipare; di seguito i partecipanti e i primi cinque turni di Ale. \nGruppi\n\n\n\n\nGruppo A\n Mateusz Surma\, 3p\n Ashe Vazquez\, 7d\nStanislaw Frejlak\, 1p\n Woo\, Ho-Yeong\,5d\n Yuze Xing\, 5d\nGruppo B\n Lukáš Podpěra\, 7d\n Cornel Burzo\, 6d\n  Valerii Krushelnytskyi\, 6d\n Dmytro Bohatskyi\, 6d\n Alessandro Pace\, 5d\n\n\n\n\n\n\nTurni 1 – 5 (di Alessandro Pace)\n\nRound 1:         BYE  Alessandro Pace\nRound 2:           Valerii Krushelnytskyi –  Alessandro Pace\nRound 3:          Alessandro Pace –  Lukáš Podpěra\nRound 4:          Alessandro Pace –  Dmytro Bohatskyi\nRound 5:          Cornel Burzo –  Alessandro Pace
URL:https://www.goclubdiroma.it/event/european-grand-prix-finale-2023/
LOCATION:Londra\, Londra\, Regno Unito
CATEGORIES:EGF,Tornei
ATTACH;FMTTYPE=image/jpeg:https://www.goclubdiroma.it/wp-content/uploads/2023/12/EGF_logoSquare.jpg
END:VEVENT
BEGIN:VEVENT
DTSTART;TZID=Europe/Rome:20231017T000000
DTEND;TZID=Europe/Rome:20231017T235959
DTSTAMP:20260425T195405
CREATED:20231016T072854Z
LAST-MODIFIED:20231016T091327Z
UID:2982-1697500800-1697587199@www.goclubdiroma.it
SUMMARY:14th Pandanet Go European Team Championship - First Round: Italy vs Austria (partite 1°\, 3° e 4° tavolo)
DESCRIPTION:Per il torneo Pandanet Euro Team Championship 14 edizione \nsi incontrano Italia vs Austria \nOggi martedi’ 17 ottobre dalle ore 20:00 rispettivamente ai 1°\, 3° e 4° tavolo \n\nAlessandro Pace vs Viktor Lin\nDavide Minieri vs Jürgen Suntinger\nAlessandro Martinelli vs Moritz Hable\n\nPartite che saranno visibili sul server di Pandanet-igs tramite client (vedi l’articolo corrispettivo)
URL:https://www.goclubdiroma.it/event/14th-pandanet-go-european-team-championship-first-round-italy-vs-austria-partita-1-3-e-4-tavolo/
CATEGORIES:Tornei
END:VEVENT
BEGIN:VEVENT
DTSTART;TZID=Europe/Rome:20231016T000000
DTEND;TZID=Europe/Rome:20231016T235959
DTSTAMP:20260425T195405
CREATED:20231016T072845Z
LAST-MODIFIED:20231016T091158Z
UID:2981-1697414400-1697500799@www.goclubdiroma.it
SUMMARY:14th Pandanet Go European Team Championship - First Round: Italy vs Austria (partita 2° tavolo)
DESCRIPTION:Per il torneo Pandanet Euro Team Championship 14 edizione \nsi incontrano Ialia vs Austria \nOggi lunedi’ 16 ottobre dalle ore 20:00 al 2° tavolo \n\nCarlo Metta vs Bojan Cvjetkovic\n\nLa partita e’ visibile sul server di Pandanet-igs tramite client (vedi l’articolo corrispettivo)
URL:https://www.goclubdiroma.it/event/14th-pandanet-go-european-team-championship-first-round-italy-vs-austria-partita-2-tavolo/
CATEGORIES:Tornei
END:VEVENT
END:VCALENDAR