BEGIN:VCALENDAR
VERSION:2.0
PRODID:-//Go Club di Roma &quot;Fujisawa Shuko&quot; - ECPv6.15.20//NONSGML v1.0//EN
CALSCALE:GREGORIAN
METHOD:PUBLISH
X-WR-CALNAME:Go Club di Roma &quot;Fujisawa Shuko&quot;
X-ORIGINAL-URL:https://www.goclubdiroma.it
X-WR-CALDESC:Eventi per Go Club di Roma &quot;Fujisawa Shuko&quot;
REFRESH-INTERVAL;VALUE=DURATION:PT1H
X-Robots-Tag:noindex
X-PUBLISHED-TTL:PT1H
BEGIN:VTIMEZONE
TZID:Europe/Rome
BEGIN:DAYLIGHT
TZOFFSETFROM:+0100
TZOFFSETTO:+0200
TZNAME:CEST
DTSTART:20240331T010000
END:DAYLIGHT
BEGIN:STANDARD
TZOFFSETFROM:+0200
TZOFFSETTO:+0100
TZNAME:CET
DTSTART:20241027T010000
END:STANDARD
BEGIN:DAYLIGHT
TZOFFSETFROM:+0100
TZOFFSETTO:+0200
TZNAME:CEST
DTSTART:20250330T010000
END:DAYLIGHT
BEGIN:STANDARD
TZOFFSETFROM:+0200
TZOFFSETTO:+0100
TZNAME:CET
DTSTART:20251026T010000
END:STANDARD
BEGIN:DAYLIGHT
TZOFFSETFROM:+0100
TZOFFSETTO:+0200
TZNAME:CEST
DTSTART:20260329T010000
END:DAYLIGHT
BEGIN:STANDARD
TZOFFSETFROM:+0200
TZOFFSETTO:+0100
TZNAME:CET
DTSTART:20261025T010000
END:STANDARD
END:VTIMEZONE
BEGIN:VEVENT
DTSTART;TZID=Europe/Rome:20250720T000000
DTEND;TZID=Europe/Rome:20250720T235959
DTSTAMP:20260426T042119
CREATED:20250620T134224Z
LAST-MODIFIED:20250620T180221Z
UID:7356-1752969600-1753055999@www.goclubdiroma.it
SUMMARY:XIII° Torneo di Agordo 2025
DESCRIPTION:Per maggiori informazioni vai alla pagina del torneo. \nModulo pre-iscrizione torneo di Agordo 2025. \n(lista pre-iscritti)
URL:https://www.goclubdiroma.it/event/xiii-torneo-di-agordo-2025/
LOCATION:Caffe’ Garibaldi\, Piazza Libertà\, Agordo\, BL\, 32021\, Italia
CATEGORIES:Tornei
ATTACH;FMTTYPE=image/jpeg:https://www.goclubdiroma.it/wp-content/uploads/2023/12/logoPiccoloVenetoGo.jpg
END:VEVENT
BEGIN:VEVENT
DTSTART;TZID=Europe/Rome:20250726T180000
DTEND;TZID=Europe/Rome:20250726T210000
DTSTAMP:20260426T042119
CREATED:20250718T075238Z
LAST-MODIFIED:20250718T075238Z
UID:7471-1753552800-1753563600@www.goclubdiroma.it
SUMMARY:GO! Il Millenario Gioco di Strategia Arriva a Fiumicino
DESCRIPTION:Sabato 26 luglio\, dalle ore 18:00\, ti aspettiamo all’Open Day del Go Club Fiumicino! \nCi troviamo nell’area relax del primo piano del Centro Commerciale The WoW (tra La Casa del Pescato e la Caffetteria Tidei).
URL:https://www.goclubdiroma.it/event/go-il-millenario-gioco-di-strategia-arriva-a-fiumicino/
LOCATION:Centro Commerciale The WoW\, Viale Donato Bramante\, 31/65\, Fiumicino\, RM\, 00054\, Italy
CATEGORIES:Manifestazioni
ATTACH;FMTTYPE=image/png:https://www.goclubdiroma.it/wp-content/uploads/2025/07/goClubFiumicinoEidosInRete.png
ORGANIZER;CN="GO Club Fiumicino":MAILTO:info@eidosinrete.org
END:VEVENT
END:VCALENDAR