BEGIN:VCALENDAR
VERSION:2.0
PRODID:-//Go Club di Roma &quot;Fujisawa Shuko&quot; - ECPv6.15.20//NONSGML v1.0//EN
CALSCALE:GREGORIAN
METHOD:PUBLISH
X-WR-CALNAME:Go Club di Roma &quot;Fujisawa Shuko&quot;
X-ORIGINAL-URL:https://www.goclubdiroma.it
X-WR-CALDESC:Eventi per Go Club di Roma &quot;Fujisawa Shuko&quot;
REFRESH-INTERVAL;VALUE=DURATION:PT1H
X-Robots-Tag:noindex
X-PUBLISHED-TTL:PT1H
BEGIN:VTIMEZONE
TZID:Europe/Rome
BEGIN:DAYLIGHT
TZOFFSETFROM:+0100
TZOFFSETTO:+0200
TZNAME:CEST
DTSTART:20250330T010000
END:DAYLIGHT
BEGIN:STANDARD
TZOFFSETFROM:+0200
TZOFFSETTO:+0100
TZNAME:CET
DTSTART:20251026T010000
END:STANDARD
BEGIN:DAYLIGHT
TZOFFSETFROM:+0100
TZOFFSETTO:+0200
TZNAME:CEST
DTSTART:20260329T010000
END:DAYLIGHT
BEGIN:STANDARD
TZOFFSETFROM:+0200
TZOFFSETTO:+0100
TZNAME:CET
DTSTART:20261025T010000
END:STANDARD
BEGIN:DAYLIGHT
TZOFFSETFROM:+0100
TZOFFSETTO:+0200
TZNAME:CEST
DTSTART:20270328T010000
END:DAYLIGHT
BEGIN:STANDARD
TZOFFSETFROM:+0200
TZOFFSETTO:+0100
TZNAME:CET
DTSTART:20271031T010000
END:STANDARD
END:VTIMEZONE
BEGIN:VEVENT
DTSTART;TZID=Europe/Rome:20260125T000000
DTEND;TZID=Europe/Rome:20260125T235959
DTSTAMP:20260425T194735
CREATED:20260109T090006Z
LAST-MODIFIED:20260112T191202Z
UID:8154-1769299200-1769385599@www.goclubdiroma.it
SUMMARY:XIII° Torneo di GO Citta' di Treviso 2026
DESCRIPTION:XIII° Torneo Citta’ di Treviso 2026 \nTorneo di classe C \nper maggiori informazioni clicca qui \nPre-iscrizioni !!!
URL:https://www.goclubdiroma.it/event/xiii-torneo-di-go-citta-di-treviso-2026/
LOCATION:Pizzeria Sant’Agostino Treviso\, Via Sant'Agostino\, 35\, Treviso\, TV\, 31100\, Italy
CATEGORIES:Tornei
ATTACH;FMTTYPE=image/jpeg:https://www.goclubdiroma.it/wp-content/uploads/2023/12/logoPiccoloVenetoGo.jpg
ORGANIZER;CN="VenetoGo Fava Marco":MAILTO:favamarco83@gmail.com
END:VEVENT
BEGIN:VEVENT
DTSTART;TZID=Europe/Rome:20260129T190000
DTEND;TZID=Europe/Rome:20260129T210000
DTSTAMP:20260425T194735
CREATED:20260122T225704Z
LAST-MODIFIED:20260122T225704Z
UID:8192-1769713200-1769720400@www.goclubdiroma.it
SUMMARY:Fiumicino Play&GO
DESCRIPTION:  \nFIUMICINO PLAY&GO \nSiete pronti a mettervi in gioco? Iniziano le nostre serate dedicate ai board games\, agli sport della mente e alla voglia di stare insieme! \nIn questo primo appuntamento scopriremo il fascino del Go. \nINFO IMPORTANTI: \n\n Target: L’attività è rivolta a un pubblico dai 12 anni in su.\nDove: Punto di ristoro IKEA Fiumicino (The WoW Side).\nQuando: Giovedì 29 gennaio\, ore 19:00 – 21:00.\nIngresso: Gratuito.\nPrenotazione necessaria per la gestione dei tavoli: https://www.eventbrite.it/e/biglietti-fiumicino-playgo-1981345508753
URL:https://www.goclubdiroma.it/event/fiumicino-playgo/
LOCATION:Centro Commerciale The WoW\, Viale Donato Bramante\, 31/65\, Fiumicino\, RM\, 00054\, Italy
CATEGORIES:Manifestazioni
ATTACH;FMTTYPE=image/jpeg:https://www.goclubdiroma.it/wp-content/uploads/2026/01/fiumicinoPalyAndGo.jpeg
END:VEVENT
END:VCALENDAR