BEGIN:VCALENDAR
VERSION:2.0
PRODID:-//Go Club di Roma &quot;Fujisawa Shuko&quot; - ECPv6.15.20//NONSGML v1.0//EN
CALSCALE:GREGORIAN
METHOD:PUBLISH
X-ORIGINAL-URL:https://www.goclubdiroma.it
X-WR-CALDESC:Eventi per Go Club di Roma &quot;Fujisawa Shuko&quot;
REFRESH-INTERVAL;VALUE=DURATION:PT1H
X-Robots-Tag:noindex
X-PUBLISHED-TTL:PT1H
BEGIN:VTIMEZONE
TZID:Europe/Rome
BEGIN:DAYLIGHT
TZOFFSETFROM:+0100
TZOFFSETTO:+0200
TZNAME:CEST
DTSTART:20240331T010000
END:DAYLIGHT
BEGIN:STANDARD
TZOFFSETFROM:+0200
TZOFFSETTO:+0100
TZNAME:CET
DTSTART:20241027T010000
END:STANDARD
BEGIN:DAYLIGHT
TZOFFSETFROM:+0100
TZOFFSETTO:+0200
TZNAME:CEST
DTSTART:20250330T010000
END:DAYLIGHT
BEGIN:STANDARD
TZOFFSETFROM:+0200
TZOFFSETTO:+0100
TZNAME:CET
DTSTART:20251026T010000
END:STANDARD
BEGIN:DAYLIGHT
TZOFFSETFROM:+0100
TZOFFSETTO:+0200
TZNAME:CEST
DTSTART:20260329T010000
END:DAYLIGHT
BEGIN:STANDARD
TZOFFSETFROM:+0200
TZOFFSETTO:+0100
TZNAME:CET
DTSTART:20261025T010000
END:STANDARD
END:VTIMEZONE
BEGIN:VEVENT
DTSTART;TZID=Europe/Rome:20250215T110000
DTEND;TZID=Europe/Rome:20250215T130000
DTSTAMP:20260421T163711
CREATED:20250127T100012Z
LAST-MODIFIED:20250127T211115Z
UID:6802-1739617200-1739624400@www.goclubdiroma.it
SUMMARY:Corso introduttivo di Go a Varese per neofiti e giocatori in erba (giorno 3 di 3)
DESCRIPTION:Il corso sara’ diviso in tre appuntamenti settimanali che si svolgeranno sabato 1\, sabato 8 e sabato 15 febbraio dalle ore 11 alle 13 in Via delle Medaglie d’Oro 8 presso la fumetteria Crazy Comics & Games\, luogo di ritrovo del GO Club Varese. \nLe lezioni si svolgeranno con la collaborazione di Aldo Podavini\, storico giocatore dall’esperienza pluridecennale\, e saranno divise in due corsi paralleli: uno rivolto ai principianti assoluti e l’altro a coloro che già conoscono le regole e che sono desiderosi di iniziare ad apprendere tecniche più avanzate. \nPer maggiori informazioni clicca qui.
URL:https://www.goclubdiroma.it/event/corso-introduttivo-di-go-a-varese-per-neofiti-e-giocatori-in-erba-giorno-3/
LOCATION:Crazy Comics & Games\, Via delle Medaglie D'Oro\, 8\, Varese\, VA\, 21100\, Italy
CATEGORIES:Manifestazioni
ATTACH;FMTTYPE=image/jpeg:https://www.goclubdiroma.it/wp-content/uploads/2024/08/lombardiago_logo-e1724182769744.jpg
ORGANIZER;CN="Lombardia GO":MAILTO:associazionelombardiago@gmail.com
END:VEVENT
BEGIN:VEVENT
DTSTART;TZID=Europe/Rome:20250208T110000
DTEND;TZID=Europe/Rome:20250208T130000
DTSTAMP:20260421T163711
CREATED:20250127T095208Z
LAST-MODIFIED:20250127T211222Z
UID:6795-1739012400-1739019600@www.goclubdiroma.it
SUMMARY:Corso introduttivo di Go a Varese per neofiti e giocatori in erba (giorno 2 di 3)
DESCRIPTION:Il corso sara’ diviso in tre appuntamenti settimanali che si svolgeranno sabato 1\, sabato 8 e sabato 15 febbraio dalle ore 11 alle 13 in Via delle Medaglie d’Oro 8 presso la fumetteria Crazy Comics & Games\, luogo di ritrovo del GO Club Varese. \nLe lezioni si svolgeranno con la collaborazione di Aldo Podavini\, storico giocatore dall’esperienza pluridecennale\, e saranno divise in due corsi paralleli: uno rivolto ai principianti assoluti e l’altro a coloro che già conoscono le regole e che sono desiderosi di iniziare ad apprendere tecniche più avanzate. \nPer maggiori informazioni clicca qui.
URL:https://www.goclubdiroma.it/event/corso-introduttivo-di-go-a-varese-per-neofiti-e-giocatori-in-erba-giorno-2/
LOCATION:Crazy Comics & Games\, Via delle Medaglie D'Oro\, 8\, Varese\, VA\, 21100\, Italy
CATEGORIES:Manifestazioni
ATTACH;FMTTYPE=image/jpeg:https://www.goclubdiroma.it/wp-content/uploads/2024/08/lombardiago_logo-e1724182769744.jpg
ORGANIZER;CN="Lombardia GO":MAILTO:associazionelombardiago@gmail.com
END:VEVENT
BEGIN:VEVENT
DTSTART;TZID=Europe/Rome:20250201T110000
DTEND;TZID=Europe/Rome:20250201T130000
DTSTAMP:20260421T163711
CREATED:20250127T094149Z
LAST-MODIFIED:20250127T211312Z
UID:6789-1738407600-1738414800@www.goclubdiroma.it
SUMMARY:Corso introduttivo di Go a Varese per neofiti e giocatori in erba (giorno 1 di 3)
DESCRIPTION:Il corso sara’ diviso in tre appuntamenti settimanali che si svolgeranno sabato 1\, sabato 8 e sabato 15 febbraio dalle ore 11 alle 13 in Via delle Medaglie d’Oro 8 presso la fumetteria Crazy Comics & Games\, luogo di ritrovo del GO Club Varese. \nLe lezioni si svolgeranno con la collaborazione di Aldo Podavini\, storico giocatore dall’esperienza pluridecennale\, e saranno divise in due corsi paralleli: uno rivolto ai principianti assoluti e l’altro a coloro che già conoscono le regole e che sono desiderosi di iniziare ad apprendere tecniche più avanzate. \nPer maggiori informazioni clicca qui.
URL:https://www.goclubdiroma.it/event/corso-introduttivo-di-go-a-varese-per-neofiti-e-giocatori-in-erba-1/
LOCATION:Crazy Comics & Games\, Via delle Medaglie D'Oro\, 8\, Varese\, VA\, 21100\, Italy
CATEGORIES:Manifestazioni
ATTACH;FMTTYPE=image/jpeg:https://www.goclubdiroma.it/wp-content/uploads/2024/08/lombardiago_logo-e1724182769744.jpg
ORGANIZER;CN="Lombardia GO":MAILTO:associazionelombardiago@gmail.com
END:VEVENT
END:VCALENDAR