BEGIN:VCALENDAR
VERSION:2.0
PRODID:-//Go Club di Roma &quot;Fujisawa Shuko&quot; - ECPv6.15.20//NONSGML v1.0//EN
CALSCALE:GREGORIAN
METHOD:PUBLISH
X-WR-CALNAME:Go Club di Roma &quot;Fujisawa Shuko&quot;
X-ORIGINAL-URL:https://www.goclubdiroma.it
X-WR-CALDESC:Eventi per Go Club di Roma &quot;Fujisawa Shuko&quot;
REFRESH-INTERVAL;VALUE=DURATION:PT1H
X-Robots-Tag:noindex
X-PUBLISHED-TTL:PT1H
BEGIN:VTIMEZONE
TZID:Europe/Rome
BEGIN:DAYLIGHT
TZOFFSETFROM:+0100
TZOFFSETTO:+0200
TZNAME:CEST
DTSTART:20250330T010000
END:DAYLIGHT
BEGIN:STANDARD
TZOFFSETFROM:+0200
TZOFFSETTO:+0100
TZNAME:CET
DTSTART:20251026T010000
END:STANDARD
BEGIN:DAYLIGHT
TZOFFSETFROM:+0100
TZOFFSETTO:+0200
TZNAME:CEST
DTSTART:20260329T010000
END:DAYLIGHT
BEGIN:STANDARD
TZOFFSETFROM:+0200
TZOFFSETTO:+0100
TZNAME:CET
DTSTART:20261025T010000
END:STANDARD
BEGIN:DAYLIGHT
TZOFFSETFROM:+0100
TZOFFSETTO:+0200
TZNAME:CEST
DTSTART:20270328T010000
END:DAYLIGHT
BEGIN:STANDARD
TZOFFSETFROM:+0200
TZOFFSETTO:+0100
TZNAME:CET
DTSTART:20271031T010000
END:STANDARD
END:VTIMEZONE
BEGIN:VEVENT
DTSTART;TZID=Europe/Rome:20260516T000000
DTEND;TZID=Europe/Rome:20260517T235959
DTSTAMP:20260425T171657
CREATED:20251219T190950Z
LAST-MODIFIED:20260311T001817Z
UID:8092-1778889600-1779062399@www.goclubdiroma.it
SUMMARY:Tappa FIGG 2026 - Torneo di GO Macerata
DESCRIPTION:Torneo di classe A\, Seconda Tappa FIGG 2026. \n \nPer maggiori informazioni vai al bando sul sito del Macerata No Go. \nPer esigenze organizzative\, si raccomanda di iscriversi in anticipo al torneo compilando questo modulo.
URL:https://www.goclubdiroma.it/event/tappa-figg-2026-torneo-di-go-macerata/
LOCATION:Galleria degli Antichi Forni\, Piaggia della Torre\, Macerata\, MC\, 62100\, Italia
CATEGORIES:F.I.G.G.,Tornei
ATTACH;FMTTYPE=image/webp:https://www.goclubdiroma.it/wp-content/uploads/2023/12/mcnogo4-g_480x480.webp
ORGANIZER;CN="Macerata No Go":MAILTO:maceratanogo@gmx.com
END:VEVENT
END:VCALENDAR