BEGIN:VCALENDAR
VERSION:2.0
PRODID:-//Go Club di Roma &quot;Fujisawa Shuko&quot; - ECPv6.15.20//NONSGML v1.0//EN
CALSCALE:GREGORIAN
METHOD:PUBLISH
X-ORIGINAL-URL:https://www.goclubdiroma.it
X-WR-CALDESC:Eventi per Go Club di Roma &quot;Fujisawa Shuko&quot;
REFRESH-INTERVAL;VALUE=DURATION:PT1H
X-Robots-Tag:noindex
X-PUBLISHED-TTL:PT1H
BEGIN:VTIMEZONE
TZID:Europe/Rome
BEGIN:DAYLIGHT
TZOFFSETFROM:+0100
TZOFFSETTO:+0200
TZNAME:CEST
DTSTART:20230326T010000
END:DAYLIGHT
BEGIN:STANDARD
TZOFFSETFROM:+0200
TZOFFSETTO:+0100
TZNAME:CET
DTSTART:20231029T010000
END:STANDARD
BEGIN:DAYLIGHT
TZOFFSETFROM:+0100
TZOFFSETTO:+0200
TZNAME:CEST
DTSTART:20240331T010000
END:DAYLIGHT
BEGIN:STANDARD
TZOFFSETFROM:+0200
TZOFFSETTO:+0100
TZNAME:CET
DTSTART:20241027T010000
END:STANDARD
BEGIN:DAYLIGHT
TZOFFSETFROM:+0100
TZOFFSETTO:+0200
TZNAME:CEST
DTSTART:20250330T010000
END:DAYLIGHT
BEGIN:STANDARD
TZOFFSETFROM:+0200
TZOFFSETTO:+0100
TZNAME:CET
DTSTART:20251026T010000
END:STANDARD
END:VTIMEZONE
BEGIN:VEVENT
DTSTART;TZID=Europe/Rome:20240622T000000
DTEND;TZID=Europe/Rome:20240623T235959
DTSTAMP:20260421T141630
CREATED:20240329T081100Z
LAST-MODIFIED:20240329T081146Z
UID:4167-1719014400-1719187199@www.goclubdiroma.it
SUMMARY:Torneo di GO Online - I° Torneo italiano di Go a coppie online
DESCRIPTION:La prima edizione del torneo italiano di Go a coppie online si svolgera’ su KGS (Stanza Italiana) il 22 e 23 Giugno 2024. \nPer maggiori informazioni vai al bando. \nPer iscriverti clicca qui.
URL:https://www.goclubdiroma.it/event/torneo-di-go-online-i-torneo-italiano-di-go-a-coppie-online/
LOCATION:KGS – Kiseido Go Server
CATEGORIES:On-Line,Tornei
ATTACH;FMTTYPE=image/jpeg:https://www.goclubdiroma.it/wp-content/uploads/2023/04/New-logo-Go-Club-Roma-4_-e1711699901830.jpg
END:VEVENT
BEGIN:VEVENT
DTSTART;TZID=Europe/Rome:20240213T210000
DTEND;TZID=Europe/Rome:20240213T220000
DTSTAMP:20260421T141630
CREATED:20240125T203152Z
LAST-MODIFIED:20240125T203242Z
UID:3839-1707858000-1707861600@www.goclubdiroma.it
SUMMARY:Lezioni online per DDK su Discord (lezione 4)
DESCRIPTION:Iniziano Lezioni online a cadenza settimanale per DDK dalla durata complessiva di un mese (4 lezioni in totale) ! \nLe prime due lezioni si sono svolte martedi’ 23\, 30 Gennaio e 6 Febbraio dalle H21 alle H22 circa. \nLe lezioni sono rivolte a neofiti (da 20k a 30k circa)\, si terranno qui su discord\, nella stanza “Miko lessons per ddk“\, con microfono attivo solo per il docente ma con possibilità di fare domande tramite la chat di KGS (necessario avere un account KGS per seguire la lezione). \nLe lezioni saranno review di vostre partite\, partendo dalle quali poi possiamo approfondire argomenti più nel dettaglio. \nSe avete partite che volete rivedere mandatemele pure in privato (discord o telegram\, nome: @MikoMiko93 )
URL:https://www.goclubdiroma.it/event/lezioni-online-per-ddk-su-discord-lezione-4/
LOCATION:Discord
CATEGORIES:On-Line
ATTACH;FMTTYPE=image/png:https://www.goclubdiroma.it/wp-content/uploads/2024/01/Discord-Symbol-1141822239-e1706213947417.png
END:VEVENT
BEGIN:VEVENT
DTSTART;TZID=Europe/Rome:20240206T210000
DTEND;TZID=Europe/Rome:20240206T220000
DTSTAMP:20260421T141630
CREATED:20240125T202636Z
LAST-MODIFIED:20240125T203244Z
UID:3835-1707253200-1707256800@www.goclubdiroma.it
SUMMARY:Lezioni online per DDK su Discord (lezione 3)
DESCRIPTION:Iniziano Lezioni online a cadenza settimanale per DDK dalla durata complessiva di un mese (4 lezioni in totale) ! \nLe prime due lezioni si sono svolte martedi’ 23 e 30 Gennaio dalle H21 alle H22 circa. \nLe lezioni sono rivolte a neofiti (da 20k a 30k circa)\, si terranno qui su discord\, nella stanza “Miko lessons per ddk“\, con microfono attivo solo per il docente ma con possibilità di fare domande tramite la chat di KGS (necessario avere un account KGS per seguire la lezione). \nLe lezioni saranno review di vostre partite\, partendo dalle quali poi possiamo approfondire argomenti più nel dettaglio. \nSe avete partite che volete rivedere mandatemele pure in privato (discord o telegram\, nome: @MikoMiko93 )
URL:https://www.goclubdiroma.it/event/lezioni-online-per-ddk-su-discord-lezione-3/
LOCATION:Discord
CATEGORIES:On-Line
ATTACH;FMTTYPE=image/png:https://www.goclubdiroma.it/wp-content/uploads/2024/01/Discord-Symbol-1141822239-e1706213947417.png
END:VEVENT
BEGIN:VEVENT
DTSTART;TZID=Europe/Rome:20240130T210000
DTEND;TZID=Europe/Rome:20240130T220000
DTSTAMP:20260421T141630
CREATED:20240125T201743Z
LAST-MODIFIED:20240125T203246Z
UID:3830-1706648400-1706652000@www.goclubdiroma.it
SUMMARY:Lezioni online per DDK su Discord (lezione 2)
DESCRIPTION:Iniziano Lezioni online a cadenza settimanale per DDK dalla durata complessiva di un mese (4 lezioni in totale) ! \nLa prima lezione si e’ svolta martedi’ 23 Gennaio dalle H21 alle H22 circa. \nLe lezioni sono rivolte a neofiti (da 20k a 30k circa)\, si terranno qui su discord\, nella stanza “Miko lessons per ddk“\, con microfono attivo solo per il docente ma con possibilità di fare domande tramite la chat di KGS (necessario avere un account KGS per seguire la lezione). \nLe lezioni saranno review di vostre partite\, partendo dalle quali poi possiamo approfondire argomenti più nel dettaglio. \nSe avete partite che volete rivedere mandatemele pure in privato (discord o telegram\, nome: @MikoMiko93 )
URL:https://www.goclubdiroma.it/event/lezioni-online-per-ddk-su-discord/
LOCATION:Discord
CATEGORIES:On-Line
ATTACH;FMTTYPE=image/png:https://www.goclubdiroma.it/wp-content/uploads/2024/01/Discord-Symbol-1141822239-e1706213947417.png
END:VEVENT
BEGIN:VEVENT
DTSTART;TZID=Europe/Rome:20240113T100000
DTEND;TZID=Europe/Rome:20240113T170000
DTSTAMP:20260421T141630
CREATED:20240112T155051Z
LAST-MODIFIED:20240113T105314Z
UID:3746-1705140000-1705165200@www.goclubdiroma.it
SUMMARY:EYGTC: Italia vs Cecoslovacchia (3 partite)
DESCRIPTION:3° turno del campionato europeo giovanile a squadre (European Youth Go Team Competition 2023/24)\, l’Italia giochera’ contro la Cecoslovacchia. \nUnder 20 \n\nDavide Bernardis 6d vs Ondrej Králik 3d 11/01 ore 20:00 (GIA’ GIOCATA)\n\nUnder 16 \n\nFlavio Romagnoli 1k vs Jan Komín 2d 10/01 ore 19:00 (GIA’ GIOCATA)\nEliseo Gastoni 12k vs Jakub Kolář 10k 13/01 ore 10:00 (partita su EidoGo)\n\nUnder 12 \n\nAnna Grasso 19k vs Juraj Kráľ 17k 13/01 ore 14:00\nNiccolo’ Grasso 23k vs Filip Grosser 17k 13/01 ore 14:00\n\nSu KGS\, stanza Euro youth team. \nPer il client KGS vedere questo articolo del sito del Go Club di Roma e il manuale.
URL:https://www.goclubdiroma.it/event/eygtc-italia-vs-cecoslovacchia-3-partite/
LOCATION:KGS – Kiseido Go Server
CATEGORIES:EGF,Tornei
ATTACH;FMTTYPE=image/jpeg:https://www.goclubdiroma.it/wp-content/uploads/2023/12/EGF_logoRectangle.jpg
END:VEVENT
END:VCALENDAR