BEGIN:VCALENDAR
VERSION:2.0
PRODID:-//Go Club di Roma &quot;Fujisawa Shuko&quot; - ECPv6.15.20//NONSGML v1.0//EN
CALSCALE:GREGORIAN
METHOD:PUBLISH
X-WR-CALNAME:Go Club di Roma &quot;Fujisawa Shuko&quot;
X-ORIGINAL-URL:https://www.goclubdiroma.it
X-WR-CALDESC:Eventi per Go Club di Roma &quot;Fujisawa Shuko&quot;
REFRESH-INTERVAL;VALUE=DURATION:PT1H
X-Robots-Tag:noindex
X-PUBLISHED-TTL:PT1H
BEGIN:VTIMEZONE
TZID:Europe/Rome
BEGIN:DAYLIGHT
TZOFFSETFROM:+0100
TZOFFSETTO:+0200
TZNAME:CEST
DTSTART:20230326T010000
END:DAYLIGHT
BEGIN:STANDARD
TZOFFSETFROM:+0200
TZOFFSETTO:+0100
TZNAME:CET
DTSTART:20231029T010000
END:STANDARD
BEGIN:DAYLIGHT
TZOFFSETFROM:+0100
TZOFFSETTO:+0200
TZNAME:CEST
DTSTART:20240331T010000
END:DAYLIGHT
BEGIN:STANDARD
TZOFFSETFROM:+0200
TZOFFSETTO:+0100
TZNAME:CET
DTSTART:20241027T010000
END:STANDARD
BEGIN:DAYLIGHT
TZOFFSETFROM:+0100
TZOFFSETTO:+0200
TZNAME:CEST
DTSTART:20250330T010000
END:DAYLIGHT
BEGIN:STANDARD
TZOFFSETFROM:+0200
TZOFFSETTO:+0100
TZNAME:CET
DTSTART:20251026T010000
END:STANDARD
END:VTIMEZONE
BEGIN:VEVENT
DTSTART;TZID=Europe/Rome:20241124T100000
DTEND;TZID=Europe/Rome:20241124T170000
DTSTAMP:20260424T062955
CREATED:20241122T184047Z
LAST-MODIFIED:20241122T184047Z
UID:6477-1732442400-1732467600@www.goclubdiroma.it
SUMMARY:Faenza - Torneo di Go
DESCRIPTION:Micro torneo di GO estemporaneo a Faenza\, presso la sede del Rione Verde.\nMolto casual\, tanto per giocare. \nRegolamento \n\n3 turni McMahon\nMain time 30 minuti e 1 Byoyomi da 30 secondi\nSi comincia con il primo turno alle 10:30.
URL:https://www.goclubdiroma.it/event/faenza-torneo-di-go/
LOCATION:Rione Verde Faenza\, Via Camillo Benso Conte di Cavour\, 37\, Faenza\, RA\, 48018\, Italy
CATEGORIES:Tornei
ATTACH;FMTTYPE=image/jpeg:https://www.goclubdiroma.it/wp-content/uploads/2024/03/go_club_ravenna-e1711635856969.jpg
ORGANIZER;CN="Go Club Ravenna":MAILTO:go.ravenna@gmail.com
END:VEVENT
END:VCALENDAR