BEGIN:VCALENDAR
VERSION:2.0
PRODID:-//Go Club di Roma &quot;Fujisawa Shuko&quot; - ECPv6.15.20//NONSGML v1.0//EN
CALSCALE:GREGORIAN
METHOD:PUBLISH
X-WR-CALNAME:Go Club di Roma &quot;Fujisawa Shuko&quot;
X-ORIGINAL-URL:https://www.goclubdiroma.it
X-WR-CALDESC:Eventi per Go Club di Roma &quot;Fujisawa Shuko&quot;
REFRESH-INTERVAL;VALUE=DURATION:PT1H
X-Robots-Tag:noindex
X-PUBLISHED-TTL:PT1H
BEGIN:VTIMEZONE
TZID:Europe/Rome
BEGIN:DAYLIGHT
TZOFFSETFROM:+0100
TZOFFSETTO:+0200
TZNAME:CEST
DTSTART:20230326T010000
END:DAYLIGHT
BEGIN:STANDARD
TZOFFSETFROM:+0200
TZOFFSETTO:+0100
TZNAME:CET
DTSTART:20231029T010000
END:STANDARD
BEGIN:DAYLIGHT
TZOFFSETFROM:+0100
TZOFFSETTO:+0200
TZNAME:CEST
DTSTART:20240331T010000
END:DAYLIGHT
BEGIN:STANDARD
TZOFFSETFROM:+0200
TZOFFSETTO:+0100
TZNAME:CET
DTSTART:20241027T010000
END:STANDARD
BEGIN:DAYLIGHT
TZOFFSETFROM:+0100
TZOFFSETTO:+0200
TZNAME:CEST
DTSTART:20250330T010000
END:DAYLIGHT
BEGIN:STANDARD
TZOFFSETFROM:+0200
TZOFFSETTO:+0100
TZNAME:CET
DTSTART:20251026T010000
END:STANDARD
BEGIN:DAYLIGHT
TZOFFSETFROM:+0100
TZOFFSETTO:+0200
TZNAME:CEST
DTSTART:20260329T010000
END:DAYLIGHT
BEGIN:STANDARD
TZOFFSETFROM:+0200
TZOFFSETTO:+0100
TZNAME:CET
DTSTART:20261025T010000
END:STANDARD
END:VTIMEZONE
BEGIN:VEVENT
DTSTART;TZID=Europe/Rome:20250705T000000
DTEND;TZID=Europe/Rome:20250705T235959
DTSTAMP:20260421T123422
CREATED:20250620T134952Z
LAST-MODIFIED:20250620T135043Z
UID:7360-1751673600-1751759999@www.goclubdiroma.it
SUMMARY:Campionato Emiliano Romagnolo di Go - 1 tappa: Ravenna
DESCRIPTION:Le tappe previste al momento sono 4: Ravenna\, Bologna\, Parma e Faenza \nLa prima sara’ questa di Ravenna\, il  5 Luglio 2025.\nTorneo McMahon da 3 turni\, Classe B \nPer tutte le informazioni visitare il link https://leago.gg/event/jvxbpna
URL:https://www.goclubdiroma.it/event/campionato-emiliano-romagnolo-di-go-1-tappa-ravenna/
LOCATION:Biblioteca Classense\, Via Alfredo Baccarini\, 3\, Ravenna\, RA\, 48121\, Italy
CATEGORIES:Tornei
ATTACH;FMTTYPE=image/jpeg:https://www.goclubdiroma.it/wp-content/uploads/2024/03/go_club_ravenna-e1711635856969.jpg
ORGANIZER;CN="Go Club Ravenna":MAILTO:go.ravenna@gmail.com
END:VEVENT
BEGIN:VEVENT
DTSTART;TZID=Europe/Rome:20241124T100000
DTEND;TZID=Europe/Rome:20241124T170000
DTSTAMP:20260421T123422
CREATED:20241122T184047Z
LAST-MODIFIED:20241122T184047Z
UID:6477-1732442400-1732467600@www.goclubdiroma.it
SUMMARY:Faenza - Torneo di Go
DESCRIPTION:Micro torneo di GO estemporaneo a Faenza\, presso la sede del Rione Verde.\nMolto casual\, tanto per giocare. \nRegolamento \n\n3 turni McMahon\nMain time 30 minuti e 1 Byoyomi da 30 secondi\nSi comincia con il primo turno alle 10:30.
URL:https://www.goclubdiroma.it/event/faenza-torneo-di-go/
LOCATION:Rione Verde Faenza\, Via Camillo Benso Conte di Cavour\, 37\, Faenza\, RA\, 48018\, Italy
CATEGORIES:Tornei
ATTACH;FMTTYPE=image/jpeg:https://www.goclubdiroma.it/wp-content/uploads/2024/03/go_club_ravenna-e1711635856969.jpg
ORGANIZER;CN="Go Club Ravenna":MAILTO:go.ravenna@gmail.com
END:VEVENT
BEGIN:VEVENT
DTSTART;TZID=Europe/Rome:20240616T083000
DTEND;TZID=Europe/Rome:20240616T173000
DTSTAMP:20260421T123422
CREATED:20240328T142149Z
LAST-MODIFIED:20250501T112245Z
UID:4141-1718526600-1718559000@www.goclubdiroma.it
SUMMARY:Torneo di GO - 1° Trofeo di Marina di Ravenna
DESCRIPTION:Ravenna Go vi invita il 16 giugno a partecipare al 1° Trofeo di Marina presso la galleria Faroarte di Marina di Ravenna. \nLa partecipazione e’ aperta a tutti i membri EGF\, sara’ possibile tesserarsi alla FIGG sul posto. \nIl costo di partecipazione e’ di € 5\,00. \nGratuito per i giocatori con meno di 18 anni e i nuovi tesserati. \nTorneo EGD Ranked Classe B. \nPer iscriverti clicca qui e per maggiori informazioni vai al bando.
URL:https://www.goclubdiroma.it/event/torneo-di-go-1-trofeo-di-marina-di-ravenna/
LOCATION:Galleria Faroarte\, Largo Walter Magnavacchi 6\, Marina di Ravenna\, Ravenna\, 48122\, Italia
CATEGORIES:Tornei
ATTACH;FMTTYPE=image/jpeg:https://www.goclubdiroma.it/wp-content/uploads/2024/03/go_club_ravenna-e1711635856969.jpg
ORGANIZER;CN="Go Club Ravenna":MAILTO:go.ravenna@gmail.com
END:VEVENT
END:VCALENDAR